Workbook

Sheet สรุป
A2: ตารางสรุปผลการจัดซื้อจัดจ้าง ประจำปีงานประมาณ พ.ศ. 2566
B4: เดือน | C4: วิธีการจัดซื้อจัดจ้าง | F4: จำนวนเงินงบประมาณ | I4: รวมแต่ละเดือน
C5: เฉพาะเจาะจง | D5: คัดเลือก | E5: e-bidding | F5: เฉพาะเจาะจง | G5: คัดเลือก | H5: e-bidding
B6: ตุลาคม 2565 | C6: =COUNTIF('ต.ค. 65'!#REF!,"เฉพาะเจาะจง") -> #REF! | D6: - | E6: =COUNTIF('ต.ค. 65'!#REF!,"e-bidding") -> #REF! | F6: =SUMIF('ต.ค. 65'!#REF!,$F$5,'ต.ค. 65'!$C$11:$C$40) -> #REF! | G6: =SUMIF('ต.ค. 65'!#REF!,$G$5,'ต.ค. 65'!$C$11:$C$40) -> #REF! | H6: =SUMIF('ต.ค. 65'!#REF!,H5,'ต.ค. 65'!$C$11:$C$40) -> #REF! | I6: =SUM(F6:H6) -> #REF!
B7: พฤศจิกายน 2565 | C7: =COUNTIF('พ.ย. 65'!$E$11:$E$58,"เฉพาะเจาะจง") -> 0 | D7: - | E7: =COUNTIF('พ.ย. 65'!$E$11:$E$49,"e-bidding") -> 0 | F7: =SUMIF('พ.ย. 65'!$E$11:$E$49,$F$5,'พ.ย. 65'!$D$11:$D$49) -> 0 | G7: =SUMIF('พ.ย. 65'!$E$12:$E$49,$G$5,'พ.ย. 65'!$D$12:$D$49) -> 0 | H7: =SUMIF('พ.ย. 65'!$E$11:$E$49,$H$5,'พ.ย. 65'!$D$11:$D$49) -> 0 | I7: =SUM(F7:H7) -> 0
B8: ธันวาคม 2565 | C8: =COUNTIF('ธ.ค. 65'!$F$11:$F$50,"เฉพาะเจาะจง") -> 36 | D8: - | E8: =COUNTIF('ธ.ค. 65'!$F$12:$F$46,"e-bidding") -> 0 | F8: =SUMIF('ธ.ค. 65'!$F$11:$F$60,F5,'ธ.ค. 65'!$E$11:$E$60) -> 0 | G8: =SUMIF('ธ.ค. 65'!$F$12:$F$46,G5,'ธ.ค. 65'!$E$12:$E$46) -> 0 | H8: =SUMIF('ธ.ค. 65'!$F$12:$F$46,H5,'ธ.ค. 65'!$E$12:$E$46) -> 0 | I8: =SUM(F8:H8) -> 0
B9: มกราคม 2566 | C9: =COUNTIF(ม.ค.66!E11:E60,"เฉพาะเจาะจง") -> 0 | D9: - | E9: =COUNTIF(ม.ค.66!$E$11:$E$33,"e-bidding") -> 0 | F9: =SUMIF(ม.ค.66!$E$11:$E$60,F5,ม.ค.66!$D$11:$D$60) -> 0 | G9: =SUMIF(ม.ค.66!$E$11:$E$33,G5,ม.ค.66!$D$11:$D$33) -> 0 | H9: =SUMIF(ม.ค.66!$E$11:$E$33,H5,ม.ค.66!$D$11:$D$33) -> 0 | I9: =SUM(F9:H9) -> 0
B10: กุมภาพันธ์ 2566 | C10: =COUNTIF('ก.พ. 66'!$E$11:$E$47,"เฉพาะเจาะจง") -> 0 | D10: =COUNTIF('ก.พ. 66'!F11:F47,"เฉพาะเจาะจง") -> 36 | E10: =COUNTIF('ก.พ. 66'!$E$11:$E$47,"e-bidding") -> 0 | F10: =SUMIF('ก.พ. 66'!$E$11:$E$47,F5,'ก.พ. 66'!$D$11:$D$47) -> 0 | G10: =SUMIF('ก.พ. 66'!$E$11:$E$47,G5,'ก.พ. 66'!$D$11:$D$47) -> 0 | H10: =SUMIF('ก.พ. 66'!$E$11:$E$47,H5,'ก.พ. 66'!$D$11:$D$47) -> 0 | I10: =SUM(F10:H10) -> 0
B11: มีนาคม 2566 | C11: =COUNTIF(มี.ค.66!E11:E46,"เฉพาะเจาะจง") -> 0 | D11: =COUNTIF(มี.ค.66!F11:F26,"เฉพาะเจาะจง") -> 16 | E11: =COUNTIF(มี.ค.66!$E$11:$E$26,"e-bidding") -> 0 | F11: =SUMIF(มี.ค.66!$E$11:$E$46,F5,มี.ค.66!$D$11:$D$26) -> 0 | G11: =SUMIF(มี.ค.66!$E$11:$E$26,G5,มี.ค.66!$D$11:$D$26) -> 0 | H11: =SUMIF(มี.ค.66!$E$11:$E$26,H5,มี.ค.66!$D$11:$D$26) -> 0 | I11: =SUM(F11:H11) -> 0
B12: เมษายน 2566 | C12: =COUNTIF(เม.ย.66!E11:E42,"เฉพาะเจาะจง") -> 0 | D12: =COUNTIF(เม.ย.66!F11:F42,D5) -> 0 | E12: =COUNTIF(เม.ย.66!G11:G42,E5) -> 0 | F12: =SUMIF(เม.ย.66!$E$11:$E$42,F5,เม.ย.66!$D$11:$D$42) -> 0 | G12: =SUMIF(เม.ย.66!$E$11:$E$26,G5,เม.ย.66!E11:E42) -> 0 | H12: =SUMIF(เม.ย.66!$E$11:$E$26,H5,เม.ย.66!F11:F42) -> 0 | I12: =SUM(F12:H12) -> 0
B13: พฤษภาคม 2566 | C13: =COUNTIF('พ.ค. 66'!$E$11:$E$53,"เฉพาะเจาะจง") -> 0 | D13: =COUNTIF('พ.ค. 66'!F11:F34,D5) -> 0 | E13: =COUNTIF('พ.ค. 66'!$E$11:$E$34,"e-bidding") -> 0 | F13: =SUMIF('พ.ค. 66'!$E$11:$E$34,F5,'พ.ค. 66'!$D$11:$D$34) -> 0 | G13: =SUMIF('พ.ค. 66'!$E$11:$E$34,G5,'พ.ค. 66'!$D$11:$D$34) -> 0 | H13: =SUMIF('พ.ค. 66'!$E$11:$E$34,H5,'พ.ค. 66'!$D$11:$D$34) -> 0 | I13: =SUM(F13:H13) -> 0
B14: มิถุนายน 2566 | C14: =COUNTIF('มิ.ย. 66'!$E$11:$E$35,$C$5) -> 0 | D14: =COUNTIF('ก.ค. 66'!$E$11:$E$31,$D$5) -> 0 | E14: =COUNTIF('มิ.ย. 66'!$E$11:$E$35,$E$5) -> 0 | F14: =SUMIF('มิ.ย. 66'!$E$11:$E$35,$F$5,'มิ.ย. 66'!$D$11:$D$35) -> 0 | G14: =SUMIF('ก.ค. 66'!$E$11:$E$31,$G$5,'ก.ค. 66'!$D$11:$D$31) -> 0 | H14: =SUMIF('มิ.ย. 66'!$E$11:$E$35,$H$5,'ก.ค. 66'!$D$11:$D$31) -> 0 | I14: =SUM(F14:H14) -> 0
B15: กุรกฎาคม 2566 | C15: =COUNTIF('ก.ค. 66'!$E$11:$E$51,$C$5) -> 0 | D15: =COUNTIF(F12:F43,$D$5) -> 0 | E15: =COUNTIF('ก.ค. 66'!$E$11:$E$32,$E$5) -> 0 | F15: =SUMIF('ก.ค. 66'!$E$11:$E$31,$F$5,'ก.ค. 66'!$D$11:$D$31) -> 0 | G15: =SUMIF('ก.ค. 66'!$E$11:$E$31,$G$5,'ก.ค. 66'!$D$11:$D$31) -> 0 | H15: =SUMIF('ก.ค. 66'!$E$11:$E$31,$H$5,'ก.ค. 66'!$D$11:$D$31) -> 0 | I15: =SUM(F15:H15) -> 0
B16: สิงหาคม 2566 | C16: =COUNTIF('ส.ค. 66'!$E$11:$E$60,$C$5) -> 0 | D16: =COUNTIF(F13:F44,$D$5) -> 0 | E16: =COUNTIF('ส.ค. 66'!$E$11:$E$48,$E$5) -> 0 | F16: =SUMIF('ส.ค. 66'!$E$11:$E$48,$F$5,'ส.ค. 66'!$D$11:$D$40) -> 0 | G16: =SUMIF('ก.ค. 66'!$E$11:$E$31,$G$5,'ก.ค. 66'!$D$11:$D$31) -> 0 | H16: =SUMIF('ส.ค. 66'!$E$11:$E$48,$H$5,'ส.ค. 66'!$D$11:$D$40) -> 0 | I16: =SUM(F16:H16) -> 0
B17: กันยายน 2566 | C17: =COUNTIF('ก.ย. 66'!$E$11:$E$61,$C$5) -> 0 | D17: =COUNTIF(F14:F45,$D$5) -> 0 | E17: =COUNTIF('ก.ย. 66'!$E$12:$E$61,$E$5) -> 0 | F17: =SUMIF('ก.ย. 66'!$E$11:$E$61,$F$5,'ก.ย. 66'!$D$11:$D$61) -> 0 | G17: =SUMIF('ก.ย. 66'!$E$12:$E$61,$G$5,'ก.ย. 66'!$D$12:$D$61) -> 0 | H17: =SUMIF('ก.ย. 66'!$E$12:$E$61,H5,'ก.ย. 66'!$D$12:$D$61) -> 0 | I17: =SUM(F17:H17) -> 0
B18: รวม | C18: =SUM(C6:C17) -> #REF! | D18: =SUM(D6:D17) -> 52 | E18: =SUM(E6:E17) -> #REF! | F18: =SUM(F6:F17) -> #REF! | G18: =SUM(G6:G17) -> #REF! | H18: =SUM(H6:H17) -> #REF!
C19: =SUM(C18:E18) -> #REF! | F19: =SUM(F18:H18) -> #REF!
B20: ร้อยละ | C20: =C18/($C$18+$E$18+$D$18)*100 -> #REF! | D20: =D18/($C$18+$E$18+$D$18)*100 -> #REF! | E20: =E18/($C$18+$E$18+$D$18)*100 -> #REF! | F20: =F18/($F$18+$G$18+$H$18)*100 -> #REF! | G20: =G18/($F$18+$G$18+$H$18)*100 -> #REF! | H20: =H18/($F$18+$G$18+$H$18)*100 -> #REF!

Sheet ต.ค. 65
A7: สรุปผลการดำเนินการจัดซื้อจัดจ้างในรอบเดือนตุลาคม พ.ศ. 2565
A8: องค์การบริหารส่วนตำบลโคกสัก
A10: ลำดับที่ | B10: งานที่จัดซื้อหรือจ้าง | C10: วงเงินงบประมาณที่ได้รับจัดสรร (บาท) | D10: แหล่งที่มาของงบประมาณ | E10: สถานะการจัดซื้อจัดจ้างฯ | F10: วิธีการจัดซื้อจัดจ้าง | G10: ราคากลาง | H10: ราคาที่ตกลงซื้อหรือจ้าง | I10: เลขประจำตัวผู้เสียภาษี | J10: รายชื่อผู้ประกอบการที่ได้รับการคัดเลือก | K10: เลขที่ของสัญญา | L10: วันที่ลงนามในสัญญา | M10: วันสิ้นสุดสัญญา
A11: 1 | B11: จ้างเหมาขับรถตู้ นข 1328 พท | C11: 21000 | D11: ข้อบัญญัติงบประมาณรายจ่ายประจำปี 2566 | E11: เสร็จสิ้น | F11: เฉพาะเจาะจง | G11: 21000 | H11: 21000 | I11: 3930300029213 | J11: นายนิคม พลพงษ์ | K11: CNTR-00001/66 | L11: 3 ต.ค. 2565 | M11: 31 ธ.ค. 2565
A12: 2 | B12: จ้างเหมาโครงการแผนที่ภาษีฯ | C12: 21000 | D12: ข้อบัญญัติงบประมาณรายจ่ายประจำปี 2566 | E12: เสร็จสิ้น | F12: เฉพาะเจาะจง | G12: 21000 | H12: 21000 | I12: 1930300150865 | J12: น.ส. มุทิตา ณ พัทลุง | K12: CNTR-00002/66 | L12: 3 ต.ค. 2565 | M12: 31 ธ.ค. 2565
A13: 3 | B13: จ้างเหมางานป้องกัน | C13: 21000 | D13: ข้อบัญญัติงบประมาณรายจ่ายประจำปี 2566 | E13: เสร็จสิ้น | F13: เฉพาะเจาะจง | G13: 21000 | H13: 21000 | I13: 1930900026243 | J13: นายอนุเทพ คงจันทร์ | K13: CNTR-00003/66 | L13: 3 ต.ค. 2565 | M13: 31 ธ.ค. 2565
A14: 4 | B14: จ้างเหมากองการศึกษา | C14: 21000 | D14: ข้อบัญญัติงบประมาณรายจ่ายประจำปี 2566 | E14: เสร็จสิ้น | F14: เฉพาะเจาะจง | G14: 21000 | H14: 21000 | I14: 1930900028025 | J14: น.ส. ชลันธร กาฬจันโท | K14: CNTR-00005/66 | L14: 3 ต.ค. 2565 | M14: 31 ธ.ค. 2565
A15: 5 | B15: จ้างเหมา ศพด. ห้วยเนียง | C15: 21000 | D15: ข้อบัญญัติงบประมาณรายจ่ายประจำปี 2566 | E15: เสร็จสิ้น | F15: เฉพาะเจาะจง | G15: 21000 | H15: 21000 | I15: 1959900459598 | J15: น.ส. ผกามาศ ไสยผอม | K15: CNTR-00006/66 | L15: 3 ต.ค. 2565 | M15: 31 ธ.ค. 2565
A16: 6 | B16: จ้างเหมางานสาธารณสุข | C16: 21000 | D16: ข้อบัญญัติงบประมาณรายจ่ายประจำปี 2566 | E16: เสร็จสิ้น | F16: เฉพาะเจาะจง | G16: 21000 | H16: 21000 | I16: 1930900019697 | J16: น.ส. นฤมล หนูปลอด | K16: CNTR-00007/66 | L16: 3 ต.ค. 2565 | M16: 31 ธ.ค. 2565
A17: 7 | B17: จ้างเหมางานพัฒนาชุมชน | C17: 21000 | D17: ข้อบัญญัติงบประมาณรายจ่ายประจำปี 2566 | E17: เสร็จสิ้น | F17: เฉพาะเจาะจง | G17: 21000 | H17: 21000 | I17: 1930900005475 | J17: น.ส. ดารุณี หมานระเด็น | K17: CNTR-00008/66 | L17: 3 ต.ค. 2565 | M17: 31 ธ.ค. 2565
A18: 8 | B18: จ้างเหมางานป้องกัน | C18: 21000 | D18: ข้อบัญญัติงบประมาณรายจ่ายประจำปี 2566 | E18: เสร็จสิ้น | F18: เฉพาะเจาะจง | G18: 21000 | H18: 21000 | I18: 3959900131084 | J18: นายฐิติพงษ์ พูลศักดิ์ | K18: CNTR-00009/66 | L18: 3 ต.ค. 2565 | M18: 31 ธ.ค. 2565
A19: 9 | B19: จ้างเหมางานสาธารณูปโภค | C19: 21000 | D19: ข้อบัญญัติงบประมาณรายจ่ายประจำปี 2566 | E19: เสร็จสิ้น | F19: เฉพาะเจาะจง | G19: 21000 | H19: 21000 | I19: 1930300093454 | J19: นายรัชชานนท์ แก้วสุกสี | K19: CNTR-00010/66 | L19: 3 ต.ค. 2565 | M19: 31 ธ.ค. 2565
A20: 10 | B20: จ้างเหมางานสาธารณูปโภค | C20: 21000 | D20: ข้อบัญญัติงบประมาณรายจ่ายประจำปี 2566 | E20: เสร็จสิ้น | F20: เฉพาะเจาะจง | G20: 21000 | H20: 21000 | I20: 1930800047664 | J20: นายนฤเทพ รักร่วม | K20: CNTR-00011/66 | L20: 3 ต.ค. 2565 | M20: 31 ธ.ค. 2565
A21: 11 | B21: จ้างเหมาขับรถตู้ นข 1320 พท | C21: 21000 | D21: ข้อบัญญัติงบประมาณรายจ่ายประจำปี 2566 | E21: เสร็จสิ้น | F21: เฉพาะเจาะจง | G21: 21000 | H21: 21000 | I21: 3930300412211 | J21: นายวุฒิชาติ สมบูรณ์ | K21: CNTR-00012/66 | L21: 3 ต.ค. 2565 | M21: 31 ธ.ค. 2565
A22: 12 | B22: จ้างเหมางานจัดเก็บรายได้ | C22: 21000 | D22: ข้อบัญญัติงบประมาณรายจ่ายประจำปี 2566 | E22: เสร็จสิ้น | F22: เฉพาะเจาะจง | G22: 21000 | H22: 21000 | I22: 3901200104001 | J22: นางสาวมลธิรา ทิมจินดา | K22: CNTR-00013/66 | L22: 3 ต.ค. 2565 | M22: 31 ธ.ค. 2565
... A28: 18 | B28: โครงการก่อสร้างถนนคอนกรีตเสริมเหล็ก สายศาลาเปลื่อง - สะพานช้อง ม.12 | C28: 775000 | D28: เงินงบประมาณค้างจ่าย ปีงบประมาณ 2565 | E28: เสร็จสิ้น | F28: e-bidding | G28: 775000 | H28: 775000 | I28: 0903539003951 | J28: หจก. เอส.พี.อี.ซี ก่อสร้าง | K28: CNTR-00019/66 | L28: 6 ต.ค. 2565 | M28: 9
A29: 19 | B29: จ้างเหมาถ่ายเอกสารพร้อมเข้าเล่ม | C29: 2460 | D29: ข้อบัญญัติงบประมาณรายจ่ายประจำปี 2566 | E29: เสร็จสิ้น | F29: เฉพาะเจาะจง | G29: 2460 | H29: 2460 | I29: 3930300035761 | J29: ร้านพี.ที.ช็อป | K29: CNTR-00020/66 | L29: 12 ต.ค. 2565
A30: 20 | B30: จ้างซ่อมแอร์ 420-47-0002 | C30: 600 | D30: ข้อบัญญัติงบประมาณรายจ่ายประจำปี 2566 | E30: เสร็จสิ้น | F30: เฉพาะเจาะจง | G30: 600 | H30: 600 | I30: 1930300002963 | J30: นายสุวิชา เดชะ | K30: CNTR-00021/66 | L30: 12 ต.ค. 2565
A31: 21 | B31: จ้างทำพวงมาลาโทนสีเหลือง | C31: 1500 | D31: ข้อบัญญัติงบประมาณรายจ่ายประจำปี 2566 | E31: เสร็จสิ้น | F31: เฉพาะเจาะจง | G31: 1500 | H31: 1500 | I31: 3930400006886 | J31: นายบัญญัติ พลเพชร | K31: CNTR-00022/66 | L31: 12 ต.ค. 2565
A32: 22 | B32: ค่าต่อสัญญาเว็บไซต์ | C32: 8000 | D32: ข้อบัญญัติงบประมาณรายจ่ายประจำปี 2566 | E32: เสร็จสิ้น | F32: เฉพาะเจาะจง | G32: 8000 | H32: 8000 | I32: 0105550110431 | J32: บ.พี.เอ เอส เวิลด์ คอมมิวนิชัน | K32: CNTR-00023/66 | L32: 12 ต.ค. 2565
A33: 23 | B33: จัดซื้อวัสดุก่อสร้าง | C33: 950 | D33: ข้อบัญญัติงบประมาณรายจ่ายประจำปี 2566 | E33: เสร็จสิ้น | F33: เฉพาะเจาะจง | G33: 950 | H33: 950 | I33: 3930400182412 | J33: ร้าน มูซัน พัทลุง | K33: CNTR-00024/66 | L33: 12 ต.ค. 2565
A34: 24 | B34: ซ่อมรถยนต์ กข 1839 พท | C34: 3380 | D34: ข้อบัญญัติงบประมาณรายจ่ายประจำปี 2566 | E34: เสร็จสิ้น | F34: เฉพาะเจาะจง | G34: 3380 | H34: 3380 | I34: 3900100043816 | J34: ร้านชัดเซอร์วิส | K34: CNTR-00025/66 | L34: 27 ต.ค. 2565
A35: 25 | B35: อาหารเสริม (นม) ถุง | C35: 438649.12 | D35: ข้อบัญญัติงบประมาณรายจ่ายประจำปี 2566 | E35: เสร็จสิ้น | F35: เฉพาะเจาะจง | G35: 438649.12 | H35: 438649.12 | I35: 0994000593155 | J35: สหกรณ์โคนมพัทลุง | K35: CNTR-00026/66 | L35: 28 ต.ค. 2565
A36: 26 | B36: ซ่อมคอมพิวเตอร์ 416-59-0026 | C36: 1280 | D36: ข้อบัญญัติงบประมาณรายจ่ายประจำปี 2566 | E36: เสร็จสิ้น | F36: เฉพาะเจาะจง | G36: 1280 | H36: 1280 | I36: 3930300133835 | J36: นายสุทธิรัตน์ เกิดฉิม | K36: CNTR-00027/66 | L36: 31 ต.ค. 2565
A37: 27 | B37: ซ่อมคอมพิวเตอร์ 416-57-0018 | C37: 800 | D37: ข้อบัญญัติงบประมาณรายจ่ายประจำปี 2566 | E37: เสร็จสิ้น | F37: เฉพาะเจาะจง | G37: 800 | H37: 800 | I37: 3930300133835 | J37: นายสุทธิรัตน์ เกิดฉิม | K37: CNTR-00028/66 | L37: 31 ต.ค. 2565
A38: 28 | B38: ซ่อมรถตู้ นข 1328 พท | C38: 3030 | D38: ข้อบัญญัติงบประมาณรายจ่ายประจำปี 2566 | E38: เสร็จสิ้น | F38: เฉพาะเจาะจง | G38: 3030 | H38: 3030 | I38: 3900100043816 | J38: ร้านชัดเซอร์วิส | K38: CNTR-00029/66 | L38: 31 ต.ค. 2565
A39: 29 | B39: ซ่อมรถจักรยานยนต์ กทพ 103 พท | C39: 450 | D39: ข้อบัญญัติงบประมาณรายจ่ายประจำปี 2566 | E39: เสร็จสิ้น | F39: เฉพาะเจาะจง | G39: 450 | H39: 450 | I39: 3670400275596 | J39: นายวีระพันธ์ แก้วมาคูณ | K39: CNTR-00030/66 | L39: 31 ต.ค. 2565
A40: 30 | B40: ซ่อมรถตู้ นข 1320 พท | C40: 4740 | D40: ข้อบัญญัติงบประมาณรายจ่ายประจำปี 2566 | E40: เสร็จสิ้น | F40: เฉพาะเจาะจง | G40: 4740 | H40: 4740 | I40: 1930300094949 | J40: อ.เจริญยนต์ | K40: CNTR-00031/66 | L40: 31 ต.ค. 2565

Sheet พ.ย. 65
A7: สรุปผลการดำเนินการจัดซื้อจัดจ้างในรอบเดือนพฤศจิกายน พ.ศ. 2565
A8: องค์การบริหารส่วนตำบลโคกสัก
A10: ลำดับที่ | B10: งานที่จัดซื้อหรือจ้าง | C10: วงเงินงบประมาณที่ได้รับจัดสรร (บาท) | D10: แหล่งที่มาของงบประมาณ | E10: สถานะการจัดซื้อจัดจ้างฯ | F10: วิธีการจัดซื้อจัดจ้าง | G10: ราคากลาง | H10: ราคาที่ตกลงซื้อหรือจ้าง | I10: เลขประจำตัวผู้เสียภาษี | J10: รายชื่อผู้ประกอบการที่ได้รับการคัดเลือก | K10: เลขที่ของสัญญา | L10: วันที่ลงนามในสัญญา | M10: วันสิ้นสุดสัญญา
A11: 1 | B11: จ้างเหมาบริการปฏิบัติงานด้านพัสดุ | C11: 5592 | D11: ข้อบัญญัติงบประมาณรายจ่ายประจำปี 2566 | E11: เสร็จสิ้น | F11: เฉพาะเจาะจง | G11: 5592 | H11: 5592 | I11: 1909802240664 | J11: นายปฏิพัฒน์ เสียงแจ้ว | K11: CNTR-00032/66 | L11: 2 พ.ย. 2565 | M11: 30 พ.ย. 2565
A12: 2 | B12: จ้างทำป้ายไวนิล 5 ป้าย | C12: 6336 | D12: ข้อบัญญัติงบประมาณรายจ่ายประจำปี 2566 | E12: เสร็จสิ้น | F12: เฉพาะเจาะจง | G12: 6336 | H12: 6336 | I12: 3930100729131 | J12: ร้านเบื้องดินโฆษณา | K12: CNTR-00033/66 | L12: 1 พ.ย. 2565 | M12: 6 พ.ย. 2565
A13: 3 | B13: จัดซื้อวัสดุก่อสร้าง | C13: 5140 | D13: ข้อบัญญัติงบประมาณรายจ่ายประจำปี 2566 | E13: เสร็จสิ้น | F13: เฉพาะเจาะจง | G13: 5140 | H13: 5140 | I13: 3930400182412 | J13: ร้านมูซัน พัทลุง | K13: CNTR-00034/66 | L13: 2 พ.ย. 2565 | M13: 7 พ.ย. 2565
A14: 4 | B14: จ้างซ่อมคอมพิวเตอร์ | C14: 5800 | D14: ข้อบัญญัติงบประมาณรายจ่ายประจำปี 2566 | E14: เสร็จสิ้น | F14: เฉพาะเจาะจง | G14: 5800 | H14: 5800 | I14: 3930300133835 | J14: นายสุทธิรัตน์ เกิดฉิม | K14: CNTR-00035/66 | L14: 8 พ.ย. 2565 | M14: 13 พ.ย. 2565
A15: 5 | B15: จัดซื้อวัสดุก่อสร้าง | C15: 20000 | D15: เงินอุดหนุนระบุวัตุประสงค์/เฉพาะกิจค้างจ่าย | E15: เสร็จสิ้น | F15: เฉพาะเจาะจง | G15: 20000 | H15: 20000 | I15: 0933554000045 | J15: หจก. บ้านวัสดุภัณฑ์ | K15: CNTR-00036/66 | L15: 8 พ.ย. 2565 | M15: 13 พ.ย. 2565
A16: 6 | B16: จ้างซ่อมรถจยย. 1 กฉ 5795 พท | C16: 740 | D16: ข้อบัญญัติงบประมาณรายจ่ายประจำปี 2566 | E16: เสร็จสิ้น | F16: เฉพาะเจาะจง | G16: 740 | H16: 740 | I16: 3670400275596 | J16: นายวีระพันธ์ แก้วมาคูณ | K16: CNTR-00037/66 | L16: 9 พ.ย. 2565 | M16: 14 พ.ย. 2565
A17: 7 | B17: จัดซื้อวัสดุอื่น ๆ (กองช่าง) | C17: 1776 | D17: ข้อบัญญัติงบประมาณรายจ่ายประจำปี 2566 | E17: เสร็จสิ้น | F17: เฉพาะเจาะจง | G17: 1776 | H17: 1776 | I17: 0933554000045 | J17: หจก.บ้านวัสดุภัณฑ์ | K17: CNTR-00038/66 | L17: 10 พ.ย. 2565 | M17: 14 พ.ย. 2565
A18: 8 | B18: จัดซื้อวัสดุก่อสร้าง | C18: 15835 | D18: ข้อบัญญัติงบประมาณรายจ่ายประจำปี 2566 | E18: เสร็จสิ้น | F18: เฉพาะเจาะจง | G18: 15835 | H18: 15835 | I18: 0933554000045 | J18: หจก.บ้านวัสดุภัณฑ์ | K18: CNTR-00039/66 | L18: 10 พ.ย. 2565 | M18: 15 พ.ย. 2565
A19: 9 | B19: จัดซื้อวัสดุก่อสร้าง | C19: 14250 | D19: ข้อบัญญัติงบประมาณรายจ่ายประจำปี 2566 | E19: เสร็จสิ้น | F19: เฉพาะเจาะจง | G19: 14250 | H19: 14250 | I19: 0933559000647 | J19: หจก.เซาเทิร์นไฮโดร | K19: CNTR-00040/66 | L19: 10 พ.ย. 2565 | M19: 15 พ.ย. 2565
A20: 10 | B20: จัดซื้อครุภัณฑ์การเกษตร เครื่องสืบน้ำบาดาล 2 แรง | C20: 29000 | D20: ข้อบัญญัติงบประมาณรายจ่ายประจำปี 2566 | E20: เสร็จสิ้น | F20: เฉพาะเจาะจง | G20: 29000 | H20: 29000 | I20: 0933544000085 | J20: หจก.วัชรกานต์บาดาล | K20: CNTR-00041/66 | L20: 10 พ.ย. 2565 | M20: 15 พ.ย. 2565
A21: 11 | B21: โครงการก่อสร้างถนนคอนกรีตเสริมเหล็ก สายชลประทาน - หูแร่ ม.6 พท.ถ.55-090 | C21: 1230000 | D21: เงินอุดหนุนระบุวัตุประสงค์/เฉพาะกิจค้างจ่าย | E21: เสร็จสิ้น | F21: e-bidding | G21: 1230000 | H21: 1230000 | I21: 0903539003951 | J21: หจก.เอส.พี.อี.ซี ก่อสร้าง | K21: CNTR-00042/66 | L21: 10 พ.ย. 2565 | M21: 8 ก.พ. 2566
A22: 12 | B22: โครงการก่อสร้างถนนคอนกรีตเสริมเหล็ก สายศาลาหมู่บ้าน - เขตเทศบาลแม่ขรี ม.8 พท.ถ.55-025 | C22: 1240000 | D22: เงินอุดหนุนระบุวัตุประสงค์/เฉพาะกิจค้างจ่าย | E22: เสร็จสิ้น | F22: e-bidding | G22: 1240000 | H22: 1240000 | I22: 0903539003951 | J22: หจก. เอส.พี.อี.ซี ก่อสร้าง | K22: CNTR-00043/66 | L22: 10 พ.ย. 2565 | M22: 8 ก.พ. 2566
... A49: 39 | B49: โครงการก่อสร้างถนนคอนกรีตเสริมเหล็ก สายซอยนายขั้น ม.10 | C49: 327001 | D49: เงินงบประมาณค้างจ่าย ปีงบประมาณ 2566 | E49: เสร็จสิ้น | F49: เฉพาะเจาะจง | G49: 327000 | H49: 327000 | I49: 3900900341277 | J49: นายฐานันดร์ บัวสม | K49: CNTR-00070/67 | L49: 30 พ.ย. 2565 | M49: 29 ก.พ. 2566

Sheet ธ.ค. 65
A7: สรุปผลการดำเนินการจัดซื้อจัดจ้างในรอบเดือนธันวาคม พ.ศ. 2565
A8: องค์การบริหารส่วนตำบลโคกสัก
A10: ลำดับที่ | B10: งานที่จัดซื้อหรือจ้าง | C10: วงเงินงบประมาณที่ได้รับจัดสรร (บาท) | D10: แหล่งที่มาของงบประมาณ | E10: สถานะการจัดซื้อจัดจ้างฯ | F10: วิธีการจัดซื้อจัดจ้าง | G10: ราคากลาง | H10: ราคาที่ตกลงซื้อหรือจ้าง | I10: เลขประจำตัวผู้เสียภาษี | J10: รายชื่อผู้ประกอบการที่ได้รับการคัดเลือก | K10: เลขที่ของสัญญา | L10: วันที่ลงนามในสัญญา | M10: วันสิ้นสุดสัญญา
A11: 1 | B11: จัดซื้อวัสดุสำนักงาน | C11: 19964 | D11: ข้อบัญญัติงบประมาณรายจ่ายประจำปี 2566 | E11: เสร็จสิ้น | F11: เฉพาะเจาะจง | G11: 19964 | H11: 19964 | I11: 3939900140440 | J11: ร้านพีพีเค ซัพพลาย | K11: CNTR-00071/66 | L11: 1 ธ.ค. 2565 | M11: 5 ธ.ค. 2565
A12: 2 | B12: จ้างทำตรายาง | C12: 650 | D12: ข้อบัญญัติงบประมาณรายจ่ายประจำปี 2566 | E12: เสร็จสิ้น | F12: เฉพาะเจาะจง | G12: 650 | H12: 650 | I12: 3939900140440 | J12: ร้านพีพีเค ซัพพลาย | K12: CNTR-00072/66 | L12: 2 ธ.ค. 2565 | M12: 7 ธ.ค. 2565
A13: 3 | B13: โครงการจ้างเหมาขุดลอกคูระบายน้ำ สายโคกสัก - นายทวี ม. 2, 9 | C13: 50000 | D13: ข้อบัญญัติงบประมาณรายจ่ายประจำปี 2566 | E13: เสร็จสิ้น | F13: เฉพาะเจาะจง | G13: 50000 | H13: 50000 | I13: 3930400189832 | J13: นายพิเชษฐ์ ชนะสงคราม | K13: CNTR-00073/66 | L13: 2 ธ.ค. 2565 | M13: 17 ธ.ค. 2565
A14: 4 | B14: จ้างทำพานพุ่มดอกไม้สด | C14: 1000 | D14: ข้อบัญญัติงบประมาณรายจ่ายประจำปี 2566 | E14: เสร็จสิ้น | F14: เฉพาะเจาะจง | G14: 1000 | H14: 1000 | I14: 3930300453023 | J14: นางสาวณัฐติญาภรณ์ ชูสอน | K14: CNTR-00074/66 | L14: 2 ธ.ค. 2565 | M14: 7 ธ.ค. 2565
A15: 5 | B15: ซ่อมจ่ายไฟ โทรทัศน์ LED | C15: 1500 | D15: ข้อบัญญัติงบประมาณรายจ่ายประจำปี 2566 | E15: เสร็จสิ้น | F15: เฉพาะเจาะจง | G15: 1500 | H15: 1500 | I15: 3930300133835 | J15: นายสุทธิรัตน์ เกิดฉิม | K15: CNTR-00075/66 | L15: 2 ธ.ค. 2565 | M15: 7 ธ.ค. 2565
A16: 6 | B16: ซ่อมเปลี่ยนภาคจ่ายไฟ PSU 550w | C16: 1880 | D16: ข้อบัญญัติงบประมาณรายจ่ายประจำปี 2566 | E16: เสร็จสิ้น | F16: เฉพาะเจาะจง | G16: 1880 | H16: 1880 | I16: 3930300133835 | J16: นายสุทธิรัตน์ เกิดฉิม | K16: CNTR-00076/66 | L16: 6 ธ.ค. 2565 | M16: 11 ธ.ค. 2565
A17: 7 | B17: จัดซื้อครุภัณฑ์การเกษตร เครื่องสูบน้ำแบบหอยโข่ง 2 แรงม้า (ม.4) | C17: 10000 | D17: ข้อบัญญัติงบประมาณรายจ่ายประจำปี 2566 | E17: เสร็จสิ้น | F17: เฉพาะเจาะจง | G17: 10000 | H17: 10000 | I17: 0933544000085 | J17: หจก.วัชรกานต์บาดาล | K17: CNTR-00077/66 | L17: 7 ธ.ค. 2565 | M17: 22 ธ.ค. 2565
A18: 8 | B18: จัดซื้อวัสดุไฟฟ้าและวิทยุ | C18: 240 | D18: ข้อบัญญัติงบประมาณรายจ่ายประจำปี 2566 | E18: เสร็จสิ้น | F18: เฉพาะเจาะจง | G18: 240 | H18: 240 | I18: 3930800310906 | J18: ร้านเสน่ห์การไฟฟ้า | K18: CNTR-00078/66 | L18: 9 ธ.ค. 2565 | M18: 14 ธ.ค. 2565
A19: 9 | B19: จ้างซ่อมแซมประตูสำนักงาน | C19: 10650 | D19: ข้อบัญญัติงบประมาณรายจ่ายประจำปี 2566 | E19: เสร็จสิ้น | F19: เฉพาะเจาะจง | G19: 10650 | H19: 10650 | I19: 3930300169589 | J19: ร้านชัยอลูมิเนียม | K19: CNTR-00079/66 | L19: 13 ธ.ค. 2565 | M19: 18 ธ.ค. 2565
A20: 10 | B20: จ้างซ่อมเครื่องปรับอากาศ ครุภันฑ์เลขที่ 420-55-0011 | C20: 12700 | D20: ข้อบัญญัติงบประมาณรายจ่ายประจำปี 2566 | E20: เสร็จสิ้น | F20: เฉพาะเจาะจง | G20: 12700 | H20: 12700 | I20: 0933551000109 | J20: หจก. รักษ์เครื่องเย็น | K20: CNTR-00080/66 | L20: 13 ธ.ค. 2565 | M20: 18 ธ.ค. 2565
A21: 11 | B21: จัดซื้อวัสดุงานบ้านงานครัว | C21: 430 | D21: ข้อบัญญัติงบประมาณรายจ่ายประจำปี 2566 | E21: เสร็จสิ้น | F21: เฉพาะเจาะจง | G21: 430 | H21: 430 | I21: 3930300137105 | J21: ร้านสุณาการเกษตรบางแก้ว | K21: CNTR-00081/66 | L21: 21 ธ.ค. 2565 | M21: 26 ธ.ค. 2565
A22: 12 | B22: จ้างเหมาขุดลอกคูระบายน้ำ สายอนามัยต้นสน ม.4, 13 | C22: 70000 | D22: ข้อบัญญัติงบประมาณรายจ่ายประจำปี 2566 | E22: เสร็จสิ้น | F22: เฉพาะเจาะจง | G22: 70000 | H22: 70000 | I22: 3930300026303 | J22: จิรวัฒน์ ค้าไม้ | K22: CNTR-00082/66 | L22: 21 ธ.ค. 2565 | M22: 10 ม.ค. 2566
... A46: 36 | B46: จ้างเหมาสาธารณูปโภค | C46: 14000 | D46: ข้อบัญญัติงบประมาณรายจ่ายประจำปี 2566 | E46: เสร็จสิ้น | F46: เฉพาะเจาะจง | G46: 14000 | H46: 14000 | I46: 1930800047664 | J46: นายนฤเทพ รักร่วม | K46: CNTR-00112/66 | L46: 29 ธ.ค. 2565 | M46: 28 ก.พ. 2566

Sheet ม.ค.66
A7: สรุปผลการดำเนินการจัดซื้อจัดจ้างในรอบเดือนมกราคม พ.ศ. 2566
A8: องค์การบริหารส่วนตำบลโคกสัก
A10: ลำดับที่ | B10: งานที่จัดซื้อหรือจ้าง | C10: วงเงินงบประมาณที่ได้รับจัดสรร (บาท) | D10: แหล่งที่มาของงบประมาณ | E10: สถานะการจัดซื้อจัดจ้างฯ | F10: วิธีการจัดซื้อจัดจ้าง | G10: ราคากลาง | H10: ราคาที่ตกลงซื้อหรือจ้าง | I10: เลขประจำตัวผู้เสียภาษี | J10: รายชื่อผู้ประกอบการที่ได้รับการคัดเลือก | K10: เลขที่ของสัญญา | L10: วันที่ลงนามในสัญญา | M10: วันสิ้นสุดสัญญา
A11: 1 | B11: จัดซื้อวัสดุสำนักงาน | C11: 3000 | D11: ข้อบัญญัติงบประมาณรายจ่ายประจำปี 2566 | E11: เสร็จสิ้น | F11: เฉพาะเจาะจง | G11: 3000 | H11: 3000 | I11: 3939900140440 | J11: ร้านพีพีเค ซัพพลาย | K11: CNTR-00113/66 | L11: 3 ม.ค. 2566 | M11: 8 ม.ค. 2566
A12: 2 | B12: จัดซื้อวัสดุก่อสร้าง จำนวน 9 รายการ | C12: 7830 | D12: ข้อบัญญัติงบประมาณรายจ่ายประจำปี 2566 | E12: เสร็จสิ้น | F12: เฉพาะเจาะจง | G12: 7830 | H12: 7830 | I12: 0933554000045 | J12: หจก. บ้านวัสดุภัณฑ์ | K12: CNTR-00114/66 | L12: 3 ม.ค. 2566 | M12: 8 ม.ค. 2566
A13: 3 | B13: จ้างเหมาบริการงานจัดเก็บรายได้ | C13: 7000 | D13: ข้อบัญญัติงบประมาณรายจ่ายประจำปี 2566 | E13: เสร็จสิ้น | F13: เฉพาะเจาะจง | G13: 7000 | H13: 7000 | I13: 1939900299906 | J13: นายธีระพงษ์ หนูมาก | K13: CNTR-00115/66 | L13: 3 ม.ค. 2566 | M13: 31 ม.ค. 2566
A14: 4 | B14: จ้างเหมาขุดลอกคูระบายน้ำถนนสายชลประทาน RMC1 (ลอน-ทุ่งนาเจริญ) ม.3,9 | C14: 229000 | D14: ข้อบัญญัติงบประมาณรายจ่ายประจำปี 2566 | E14: เสร็จสิ้น | F14: เฉพาะเจาะจง | G14: 229000 | H14: 229000 | I14: 3900900281541 | J14: นวลทอง 2010 | K14: CNTR-00116/66 | L14: 4 ม.ค. 2566 | M14: 3 ก.พ. 2566
A15: 5 | B15: จ้างเหมาขุดลอกคูระบายน้ำถนนสายสามตำบล หมู่ที่ 2,3,10 | C15: 54000 | D15: ข้อบัญญัติงบประมาณรายจ่ายประจำปี 2566 | E15: เสร็จสิ้น | F15: เฉพาะเจาะจง | G15: 54000 | H15: 54000 | I15: 3930300026303 | J15: จิรวัฒน์ ค้าไม้ | K15: CNTR-00117/66 | L15: 5 ม.ค. 2566 | M15: 20 ม.ค. 2566
A16: 6 | B16: จ้างเหมาขุดลอกคูระบายน้ำถนนสายลอน- บ่อนางชี หมู่ที่ 3,11 | C16: 62000 | D16: ข้อบัญญัติงบประมาณรายจ่ายประจำปี 2566 | E16: เสร็จสิ้น | F16: เฉพาะเจาะจง | G16: 62000 | H16: 62000 | I16: 3900900281541 | J16: นวลทอง 2010 | K16: CNTR-00118/66 | L16: 5 ม.ค. 2566 | M16: 20 ม.ค. 2566
A17: 7 | B17: ซ่อมเปลี่ยนลูกปืนล้อหน้า รภจักรยานยนต์ ทะเบียน 1 กฉ 5795 พท | C17: 200 | D17: ข้อบัญญัติงบประมาณรายจ่ายประจำปี 2566 | E17: เสร็จสิ้น | F17: เฉพาะเจาะจง | G17: 200 | H17: 200 | I17: 3670400275596 | J17: นายวีระพันธ์ แก้วมาคูณ | K17: CNTR-00120/66 | L17: 5 ม.ค. 2566 | M17: 5 ม.ค. 2566
A18: 8 | B18: วัสดุก่อสร้าง จำนวน 4 รายการ | C18: 10635 | D18: ข้อบัญญัติงบประมาณรายจ่ายประจำปี 2566 | E18: เสร็จสิ้น | F18: เฉพาะเจาะจง | G18: 10635 | H18: 10635 | I18: 0933554000045 | J18: หจก. บ้านวัสดุภัณฑ์ | K18: CNTR-00121/66 | L18: 5 ม.ค. 2566 | M18: 10 ม.ค. 2566
A19: 9 | B19: โครงการจ้างขุดลอกคูระบายน้ำ ถนนสายห้วยเนียง-งามทอง หมู่ที่ 5,7,10 | C19: 141000 | D19: ข้อบัญญัติงบประมาณรายจ่ายประจำปี 2566 | E19: เสร็จสิ้น | F19: เฉพาะเจาะจง | G19: 141000 | H19: 141000 | I19: 3930300026303 | J19: จิรวัฒน์ ค้าไม้ | K19: CNTR-00122/66 | L19: 6 ม.ค. 2566 | M19: 20 ม.ค. 2566
A20: 10 | B20: วัสดุไฟฟ้าและวิทยุ จำนวน 4 รายการ | C20: 5350 | D20: ข้อบัญญัติงบประมาณรายจ่ายประจำปี 2566 | E20: เสร็จสิ้น | F20: เฉพาะเจาะจง | G20: 5350 | H20: 5350 | I20: 3930800310906 | J20: ร้านเสน่ห์การไฟฟ้า | K20: CNTR-00123/66 | L20: 6 ม.ค. 2566 | M20: 11 ม.ค. 2566
A21: 11 | B21: จ้างทำป้ายไวนิลโครงการวันเด็กแห่งชาติ ประจำปี 2566 ขนาดป้าย 3 x 8 เมตร | C21: 4800 | D21: ข้อบัญญัติงบประมาณรายจ่ายประจำปี 2566 | E21: เสร็จสิ้น | F21: เฉพาะเจาะจง | G21: 4800 | H21: 4800 | I21: 3930100729131 | J21: ร้านเบื้องดินโฆษณา | K21: CNTR-00124/66 | L21: 3 ต.ค. 2565 | M21: 13 ม.ค. 2566
A22: 12 | B22: เช่าเครื่องเสียงและเวที (โครงการกิจกรรมวันเด็ก) | C22: 10000 | D22: ข้อบัญญัติงบประมาณรายจ่ายประจำปี 2566 | E22: เสร็จสิ้น | F22: เฉพาะเจาะจง | G22: 10000 | H22: 10000 | I22: 3930300332129 | J22: นายเสริม วงค์จนากุล | K22: CNTR-00125/66 | L22: 10 ม.ค. 2566 | M22: 13 ม.ค. 2566
... A33: 23 | B33: ครุภัณฑ์คอมพิวเตอร์ จำนวน 2 รายการ | C33: 24800 | D33: ข้อบัญญัติงบประมาณรายจ่ายประจำปี 2566 | E33: เสร็จสิ้น | F33: เฉพาะเจาะจง | G33: 24800 | H33: 24800 | I33: 3930300133835 | J33: นายสุทธิรัตน์ เกิดฉิม | K33: CNTR-00136/66 | L33: 31 ม.ค. 2566 | M33: 15 ก.พ. 2566

Sheet ก.พ. 66
A7: สรุปผลการดำเนินการจัดซื้อจัดจ้างในรอบเดือนกุมภาพันธ์ พ.ศ. 2566
A8: องค์การบริหารส่วนตำบลโคกสัก
A10: ลำดับที่ | B10: งานที่จัดซื้อหรือจ้าง | C10: วงเงินงบประมาณที่ได้รับจัดสรร (บาท) | D10: แหล่งที่มาของงบประมาณ | E10: สถานะการจัดซื้อจัดจ้างฯ | F10: วิธีการจัดซื้อจัดจ้าง | G10: ราคากลาง | H10: ราคาที่ตกลงซื้อหรือจ้าง | I10: เลขประจำตัวผู้เสียภาษี | J10: รายชื่อผู้ประกอบการที่ได้รับการคัดเลือก | K10: เลขที่ของสัญญา | L10: วันที่ลงนามในสัญญา | M10: วันสิ้นสุดสัญญา
A11: 1 | B11: โครงการก่อสร้างถนนคอนกรีตเสริมเหล็ก สายซอยขัยพล ม.8 | C11: 307000 | D11: เงินงบประมาณค้างจ่าย ปีงบประมาณ 2565 | E11: เสร็จสิ้น | F11: เฉพาะเจาะจง | G11: 307000 | H11: 307000 | I11: 3900900341277 | J11: นายฐานันดร์ บัวสม | K11: CNTR-00137/66 | L11: 7 ก.พ. 2566 | M11: 8 พ.ค. 2566
A12: 2 | B12: โครงการก่อสร้างถนนคอนกรีตเสริมเหล็ก สายเพชรเกษม-ศาลาหมู่บ้าน ม.8 | C12: 386000 | D12: เงินงบประมาณค้างจ่าย ปีงบประมาณ 2565 | E12: เสร็จสิ้น | F12: เฉพาะเจาะจง | G12: 386000 | H12: 386000 | I12: 3900900341277 | J12: นายฐานันดร์ บัวสม | K12: CNTR-00138/66 | L12: 7 ก.พ. 2566 | M12: 8 พ.ค. 2566
A13: 3 | B13: โครงการก่อสร้างถนนคอนกรีตเสริมเหล็ก สายซอยชนะสิทธิ์ ม.8 | C13: 433000 | D13: เงินงบประมาณค้างจ่าย ปีงบประมาณ 2565 | E13: เสร็จสิ้น | F13: เฉพาะเจาะจง | G13: 433000 | H13: 433000 | I13: 3930400189832 | J13: นายพิเชษฐ์ ชนะสงคราม | K13: CNTR-00139/66 | L13: 8 ก.พ. 2566 | M13: 9 พ.ค. 2566
A14: 4 | B14: โครงการก่อสร้างถนนคอนกรีตเสริมเหล็กสายซอยทวดโพธิ์ ม.13 | C14: 275000 | D14: เงินงบประมาณค้างจ่าย ปีงบประมาณ 2565 | E14: เสร็จสิ้น | F14: เฉพาะเจาะจง | G14: 275000 | H14: 275000 | I14: 4930200002699 | J14: นายอิดดาเร็ด เหรียมเด็ม | K14: CNTR-00140/66 | L14: 8 ก.พ. 2566 | M14: 9 พ.ค. 2566
A15: 5 | B15: จัดซื้อวัสดุงานบ้านงานครัว | C15: 230 | D15: ข้อบัญญัติงบประมาณรายจ่ายประจำปี 2566 | E15: เสร็จสิ้น | F15: เฉพาะเจาะจง | G15: 230 | H15: 230 | I15: 3930300137105 | J15: ร้านสกุณาการเกษตรบางแก้ว | K15: CNTR-00141/66 | L15: 9 ก.พ. 2566 | M15: 13 ก.พ. 2566
A16: 6 | B16: จัดซื้อวัสดุวิทยาศาสตร์หรือการแพทย์ ตลับกรอง 6 ชุด | C16: 4800 | D16: ข้อบัญญัติงบประมาณรายจ่ายประจำปี 2566 | E16: เสร็จสิ้น | F16: เฉพาะเจาะจง | G16: 4800 | H16: 4800 | I16: 3930300126359 | J16: ร้านทรัพย์ทวีการค้า | K16: CNTR-00142/66 | L16: 9 ก.พ. 2566 | M16: 23 ก.พ. 2566
A17: 7 | B17: จัดซื้อวัสดุไฟฟ้าและวิทยุ จำนวน 3 รายการ | C17: 2010 | D17: ข้อบัญญัติงบประมาณรายจ่ายประจำปี 2566 | E17: เสร็จสิ้น | F17: เฉพาะเจาะจง | G17: 2010 | H17: 2010 | I17: 3930800310906 | J17: ร้านเสน่ห์การไฟฟ้า | K17: CNTR-00144/66 | L17: 10 ก.พ. 2566 | M17: 15 ก.พ. 2566
A18: 8 | B18: โครงการจ้างขุดลอกคูระบายน้ำ ถนนสายบ้านโคกสัก - ป่าบอนต่ำม. 2, 3 (ช่วงหลังโรงเรียนวัดลอน) | C18: 3000 | D18: ข้อบัญญัติงบประมาณรายจ่ายประจำปี 2566 | E18: เสร็จสิ้น | F18: เฉพาะเจาะจง | G18: 3000 | H18: 3000 | I18: 3900900281541 | J18: นวลทอง 2010 | K18: CNTR-00145/66 | L18: 10 ก.พ. 2566 | M18: 20 ก.พ. 2566
A19: 9 | B19: โครงการจ้างขุดลอกคูระบายน้ำถนนสายโคกสัก - คอแห้งงาม ม. 2, 7 | C19: 43000 | D19: ข้อบัญญัติงบประมาณรายจ่ายประจำปี 2566 | E19: เสร็จสิ้น | F19: เฉพาะเจาะจง | G19: 43000 | H19: 43000 | I19: 3930300026303 | J19: จิรวัฒน์ ค้าไม้ | K19: CNTR-00146/66 | L19: 10 ก.พ. 2566 | M19: 25 ก.พ. 2566
A20: 10 | B20: โครงการจ้างขุดลอกคูระบายน้ำ ถนนสายสี่แยกผู้ใหญ่พล-วัดลอน ม. 3 | C20: 31000 | D20: ข้อบัญญัติงบประมาณรายจ่ายประจำปี 2566 | E20: เสร็จสิ้น | F20: เฉพาะเจาะจง | G20: 31000 | H20: 31000 | I20: 3930300026303 | J20: จิรวัฒน์ ค้าไม้ | K20: CNTR-00147/66 | L20: 10 ก.พ. 2566 | M20: 25 ก.พ. 2566
A21: 11 | B21: โครงการจ้างขุดลอกคูระบายน้ำ ถนนสายหัวสะพาน-ลำธาร์ ม. 2 | C21: 8000 | D21: ข้อบัญญัติงบประมาณรายจ่ายประจำปี 2566 | E21: เสร็จสิ้น | F21: เฉพาะเจาะจง | G21: 8000 | H21: 8000 | I21: 3900900281541 | J21: นวลทอง 2010 | K21: CNTR-00148/66 | L21: 10 ก.พ. 2566 | M21: 20 ก.พ. 2566
A22: 12 | B22: จัดซื้อวัสดุสำนักงาน | C22: 6600 | D22: ข้อบัญญัติงบประมาณรายจ่ายประจำปี 2566 | E22: เสร็จสิ้น | F22: เฉพาะเจาะจง | G22: 6600 | H22: 6600 | I22: 0933557000151 | J22: หจก. โอมเฟอร์นิเจอร์ | K22: CNTR-00149/66 | L22: 10 ก.พ. 2566 | M22: 15 ก.พ. 2566
... A47: 37 | B47: จัดซื้อวัสดุไฟฟ้าและวิทยุ จำนวน 15 รายการ | C47: 28570 | D47: ข้อบัญญัติงบประมาณรายจ่ายประจำปี 2566 | E47: เสร็จสิ้น | F47: เฉพาะเจาะจง | G47: 28570 | H47: 28570 | I47: 3930800310906 | J47: ร้านเสน่ห์การไฟฟ้า | K47: CNTR-00174/66 | L47: 27 ก.พ. 2566 | M47: 1 มี.ค. 2566

Sheet มี.ค.66
A7: สรุปผลการดำเนินการจัดซื้อจัดจ้างในรอบเดือนมีนาคม พ.ศ. 2566
A8: องค์การบริหารส่วนตำบลโคกสัก
A10: ลำดับที่ | B10: งานที่จัดซื้อหรือจ้าง | C10: วงเงินงบประมาณที่ได้รับจัดสรร (บาท) | D10: แหล่งที่มาของงบประมาณ | E10: สถานะการจัดซื้อจัดจ้างฯ | F10: วิธีการจัดซื้อจัดจ้าง | G10: ราคากลาง | H10: ราคาที่ตกลงซื้อหรือจ้าง | I10: เลขประจำตัวผู้เสียภาษี | J10: รายชื่อผู้ประกอบการที่ได้รับการคัดเลือก | K10: เลขที่ของสัญญา | L10: วันที่ลงนามในสัญญา | M10: วันสิ้นสุดสัญญา
A11: 1 | B11: จ้างซ่อมแซมฝ้าเพดานห้องน้ำ อบต.โคกสัก | C11: 9400 | D11: ข้อบัญญัติงบประมาณรายจ่ายประจำปี 2566 | E11: เสร็จสิ้น | F11: เฉพาะเจาะจง | G11: 9400 | H11: 9400 | I11: 3930300015425 | J11: นายหมุดตอฝา แดงแสง | K11: CNTR-00175/66 | L11: 3 มี.ค. 2566 | M11: 8 มี.ค 2566
A12: 2 | B12: จัดซื้อวัสดุไฟฟ้าและวิทยุ ปลั๊กไฟฟ้า ขนาด 5 เมตร | C12: 640 | D12: ข้อบัญญัติงบประมาณรายจ่ายประจำปี 2566 | E12: เสร็จสิ้น | F12: เฉพาะเจาะจง | G12: 640 | H12: 640 | I12: 3930800310906 | J12: ร้านเสน่ห์การไฟฟ้า | K12: CNTR-00176/66 | L12: 9 มี.ค. 2566 | M12: 14 มี.ค. 2566
A13: 3 | B13: จัดซื้อครุภัณฑ์สำนักงาน เครื่องปรับอากาศ ขนาด 12,000 บีทียู | C13: 16500 | D13: ข้อบัญญัติงบประมาณรายจ่ายประจำปี 2566 | E13: เสร็จสิ้น | F13: เฉพาะเจาะจง | G13: 16500 | H13: 16500 | I13: 0933551000109 | J13: หจก.รักษ์เครื่องเย็น | K13: CNTR-00177/66 | L13: 13 มี.ค. 2566 | M13: 28 มี.ค. 2566
A14: 4 | B14: จ้างเหมาซ่อมแซมหลังคาอาคาร ศพด.บ้านลอน | C14: 13000 | D14: ข้อบัญญัติงบประมาณรายจ่ายประจำปี 2566 | E14: เสร็จสิ้น | F14: เฉพาะเจาะจง | G14: 13000 | H14: 13000 | I14: 3930300015425 | J14: นายหมุดตอฝา แดงแสง | K14: CNTR-00178/66 | L14: 13 มี.ค. 2566 | M14: 28 มี.ค. 2566
A15: 5 | B15: จ้างทำพานพุ่มดอกไม้สด สีชมพู จำนวน 1 พาน | C15: 1000 | D15: ข้อบัญญัติงบประมาณรายจ่ายประจำปี 2566 | E15: เสร็จสิ้น | F15: เฉพาะเจาะจง | G15: 1000 | H15: 1000 | I15: 3930300453023 | J15: ร้านต้นรักดอกไม้สด | K15: CNTR-00179/66 | L15: 15 มี.ค. 2566 | M15: 17 มี.ค. 2566
A16: 6 | B16: จัดซื้อวัสดุไฟฟ้าและวิทยุ โคมไฟ LED ดาวน์ไลท์ 18 w | C16: 950 | D16: ข้อบัญญัติงบประมาณรายจ่ายประจำปี 2566 | E16: เสร็จสิ้น | F16: เฉพาะเจาะจง | G16: 950 | H16: 950 | I16: 3930800310906 | J16: ร้านเสน่ห์การไฟฟ้า | K16: CNTR-00180/66 | L16: 20 มี.ค. 2566 | M16: 25 มี.ค. 2566
A17: 7 | B17: จัดซื้อวัสดุไฟฟ้าและวิทยุ จำนวน 2 รายการ | C17: 800 | D17: ข้อบัญญัติงบประมาณรายจ่ายประจำปี 2566 | E17: เสร็จสิ้น | F17: เฉพาะเจาะจง | G17: 800 | H17: 800 | I17: 3930400055381 | J17: ร้านด่านโลด โปร ซีสเต็ม | K17: CNTR-00181/66 | L17: 20 มี.ค. 2566 | M17: 25 มี.ค. 2566
A18: 8 | B18: จัดซื้อวัสดุไฟฟ้าและวิทยุ หัวโฟโต้สวิคซืแสง 3 ขา | C18: 760 | D18: ข้อบัญญัติงบประมาณรายจ่ายประจำปี 2566 | E18: เสร็จสิ้น | F18: เฉพาะเจาะจง | G18: 760 | H18: 760 | I18: 3930400055381 | J18: ร้านด่านโลด โปร ซีสเต็ม | K18: CNTR-00182/66 | L18: 20 มี.ค. 2566 | M18: 25 มี.ค. 2566
A19: 9 | B19: อาหารเสริม(นม) กล่อง ปีการศึกษา 2565 ภาคเรียนที่ 2 | C19: 133804 | D19: ข้อบัญญัติงบประมาณรายจ่ายประจำปี 2566 | E19: เสร็จสิ้น | F19: เฉพาะเจาะจง | G19: 133804 | H19: 133804 | I19: 0994000593155 | J19: สหกรณ์โคนมพัทลุง | K19: CNTR-00183/66 | L19: 20 มี.ค. 2566 | M19: 3 เม.ย. 2566
A20: 10 | B20: วัสดุก่อสร้าง ไส้กรอง PP 20 นิ้ว (ใยสังเคราะห์) 5 ไมครอน จำนวน 25 ไส้ | C20: 3000 | D20: ข้อบัญญัติงบประมาณรายจ่ายประจำปี 2566 | E20: เสร็จสิ้น | F20: เฉพาะเจาะจง | G20: 3000 | H20: 3000 | I20: 3930400055381 | J20: ร้านด่านโลด โปร ซีสเต็ม | K20: CNTR-00184/66 | L20: 22 มี.ค. 2566 | M20: 27 มี.ค. 2566
A21: 11 | B21: จ้างเหมาบริการด้านการจัดเก็บรายได้ | C21: 7000 | D21: ข้อบัญญัติงบประมาณรายจ่ายประจำปี 2566 | E21: เสร็จสิ้น | F21: เฉพาะเจาะจง | G21: 7000 | H21: 7000 | I21: 1939900299906 | J21: นายธีระพงศ์ หนูมาก | K21: CNTR-00185/66 | L21: 27 มี.ค. 2566 | M21: 30 เม.ย. 2566
A22: 12 | B22: จ้างเหมาบริการด้านงานพัสดุ | C22: 7000 | D22: ข้อบัญญัติงบประมาณรายจ่ายประจำปี 2566 | E22: เสร็จสิ้น | F22: เฉพาะเจาะจง | G22: 7000 | H22: 7000 | I22: 1909802240664 | J22: นายปฏิพัฒน์ เสียงแจ้ว | K22: CNTR-00186/66 | L22: 27 มี.ค. 2566 | M22: 30 เม.ย. 2566
... A26: 16 | B26: จัดซื้อวัสดุสำนักงาน จำนวน 5 รายการ | C26: 890 | D26: ข้อบัญญัติงบประมาณรายจ่ายประจำปี 2566 | E26: เสร็จสิ้น | F26: เฉพาะเจาะจง | G26: 890 | H26: 890 | I26: 3939900140440 | J26: ร้านพีพีเค ซัพพลาย | K26: CNTR-00190/66 | L26: 28 มี.ค. 2566 | M26: 3 เม.ย. 2566

Sheet เม.ย.66
A7: สรุปผลการดำเนินการจัดซื้อจัดจ้างในรอบเดือนเมษายน พ.ศ. 2566
A8: องค์การบริหารส่วนตำบลโคกสัก
A10: ลำดับที่ | B10: งานที่จัดซื้อหรือจ้าง | C10: วงเงินงบประมาณที่ได้รับจัดสรร (บาท) | D10: แหล่งที่มาของงบประมาณ | E10: สถานะการจัดซื้อจัดจ้างฯ | F10: วิธีการจัดซื้อจัดจ้าง | G10: ราคากลาง | H10: ราคาที่ตกลงซื้อหรือจ้าง | I10: เลขประจำตัวผู้เสียภาษี | J10: รายชื่อผู้ประกอบการที่ได้รับการคัดเลือก | K10: เลขที่ของสัญญา | L10: วันที่ลงนามในสัญญา | M10: วันสิ้นสุดสัญญา
A11: 1 | B11: จัดซื้อวัสดุก่อสร้าง จำนวน 2 รายการ | C11: 150000 | D11: ข้อบัญญัติงบประมาณรายจ่ายประจำปี 2566 | E11: เสร็จสิ้น | F11: เฉพาะเจาะจง | G11: 150000 | H11: 150000 | I11: 0855565000052 | J11: บริษัท ทีทีดับเบิ้ลยู เซอร์วิส | K11: CNTR-00191/66 | L11: 5 เม.ย. 2566 | M11: 10 เม.ย. 2566
A12: 2 | B12: จัดจ้างตรายาง จำนวน 8 รายการ | C12: 1280 | D12: ข้อบัญญัติงบประมาณรายจ่ายประจำปี 2566 | E12: เสร็จสิ้น | F12: เฉพาะเจาะจง | G12: 1280 | H12: 1280 | I12: 3930500837038 | J12: ร้านเพื่อนซิลค์และตรายาง | K12: CNTR-00192/66 | L12: 7 เม.ย. 2566 | M12: 12 เม.ย. 2566
A13: 3 | B13: จัดจ้างทำป้ายไวนิลฯ จุดตรวจฯ เทศกาลสงกรานต์ 2566 | C13: 900 | D13: ข้อบัญญัติงบประมาณรายจ่ายประจำปี 2566 | E13: เสร็จสิ้น | F13: เฉพาะเจาะจง | G13: 900 | H13: 900 | I13: 3930100729131 | J13: ร้านเบื้องดินโฆษณา | K13: CNTR-00193/66 | L13: 7 เม.ย. 2566 | M13: 10 เม.ย. 2566
A14: 4 | B14: เช่าเต็นท์โต๊ะเก้าอี้ 7 วันอันตราย | C14: 5600 | D14: ข้อบัญญัติงบประมาณรายจ่ายประจำปี 2566 | E14: เสร็จสิ้น | F14: เฉพาะเจาะจง | G14: 5600 | H14: 5600 | I14: 3930600187582 | J14: นายอิชหรอหีม แอเหลาะ | K14: CNTR-00194/66 | L14: 7 เม.ย. 2566 | M14: 10 เม.ย. 2566
A15: 5 | B15: จัดซื้อวัสดุก่อสร้าง จำนวน 21 รายการ | C15: 43389 | D15: ข้อบัญญัติงบประมาณรายจ่ายประจำปี 2566 | E15: เสร็จสิ้น | F15: เฉพาะเจาะจง | G15: 43389 | H15: 43389 | I15: 0935548000065 | J15: บริษัท รุ่งโรจน์ก้าวหน้า จำกัด | K15: CNTR-00195/66 | L15: 10 เม.ย. 2566 | M15: 15 เม.ย. 2566
A16: 6 | B16: จัดซื้อวัสดุคอมพิวเตอร์ จำนวน 4 รายการ | C16: 1980 | D16: ข้อบัญญัติงบประมาณรายจ่ายประจำปี 2566 | E16: เสร็จสิ้น | F16: เฉพาะเจาะจง | G16: 1980 | H16: 1980 | I16: 3930300133835 | J16: นายสุทธิรัตน์ เกิดฉิม | K16: CNTR-00196/66 | L16: 12 เม.ย. 2566 | M16: 17 เม.ย. 2566
A17: 7 | B17: จัดซื้อวัสดุกีฬา จำนวน 4 รายการ | C17: 48250 | D17: ข้อบัญญัติงบประมาณรายจ่ายประจำปี 2566 | E17: เสร็จสิ้น | F17: เฉพาะเจาะจง | G17: 48250 | H17: 48250 | I17: 3800101616080 | J17: ร้านวอร์มสปอร์ต | K17: CNTR-00197/66 | L17: 18 เม.ย. 2566 | M17: 23 เม.ย. 2566
A18: 8 | B18: จัดซื้อวัสดุอื่น ๆ จำนวน 2 รายการ | C18: 3332 | D18: ข้อบัญญัติงบประมาณรายจ่ายประจำปี 2566 | E18: เสร็จสิ้น | F18: เฉพาะเจาะจง | G18: 3332 | H18: 3332 | I18: 0933554000045 | J18: หจก. บ้านวัสดุภัณฑ์ | K18: CNTR-00198/66 | L18: 18 เม.ย. 2566 | M18: 23 เม.ย. 2566
A19: 9 | B19: จัดซื้อวัสดุวิทยาศาสตร์หรือการแพทย์ วัคซีนโรคพิษสุนัขบ้า | C19: 19680 | D19: ข้อบัญญัติงบประมาณรายจ่ายประจำปี 2566 | E19: เสร็จสิ้น | F19: เฉพาะเจาะจง | G19: 19680 | H19: 19680 | I19: 0905545001966 | J19: บริษัท ดาราภัณฑ์ภาคใต้ จำกัด | K19: CNTR-00199/66 | L19: 18 เม.ย. 2566 | M19: 23 เม.ย. 2566
A20: 10 | B20: วัสดุคอมพิวเตอร์ จำนวน 7 รายการ | C20: 30095 | D20: ข้อบัญญัติงบประมาณรายจ่ายประจำปี 2566 | E20: เสร็จสิ้น | F20: เฉพาะเจาะจง | G20: 30095 | H20: 30095 | I20: 3930300133835 | J20: นายสุทธิรัตน์ เกิดฉิม | K20: CNTR-00200/66 | L20: 18 เม.ย. 2566 | M20: 23 เม.ย. 2566
A21: 11 | B21: วัสดุสำนักงาน จำนวน 25 รายการ | C21: 23311 | D21: ข้อบัญญัติงบประมาณรายจ่ายประจำปี 2566 | E21: เสร็จสิ้น | F21: เฉพาะเจาะจง | G21: 23311 | H21: 23311 | I21: 3939900140440 | J21: ร้านพีพีเค ซัพพลาย | K21: CNTR-00201/66 | L21: 18 เม.ย. 2566 | M21: 23 เม.ย. 2566
A22: 12 | B22: จ้างตัดชุด อปพร. 20 ชุด | C22: 56000 | D22: ข้อบัญญัติงบประมาณรายจ่ายประจำปี 2566 | E22: เสร็จสิ้น | F22: เฉพาะเจาะจง | G22: 56000 | H22: 56000 | I22: 0933550000237 | J22: หจก.ลายพราง พัทลุง | K22: CNTR-00202/66 | L22: 19 เม.ย. 2566 | M22: 4 พ.ค. 2566
... A42: 32 | B42: วัสดุสำนักงาน ผ้าผูกสีขาวสีเหลืองและสีม่วง | C42: 8568 | D42: ข้อบัญญัติงบประมาณรายจ่ายประจำปี 2566 | E42: เสร็จสิ้น | F42: เฉพาะเจาะจง | G42: 8568 | H42: 8568 | I42: 3939900154904 | J42: ร้านกฤษณาสโตร์ | K42: CNTR-00226/66 | L42: 28 เม.ย. 2566 | M42: 3 พ.ค. 2566

Sheet พ.ค. 66
A7: สรุปผลการดำเนินการจัดซื้อจัดจ้างในรอบเดือนพฤษภาคม พ.ศ. 2566
A8: องค์การบริหารส่วนตำบลโคกสัก
A10: ลำดับที่ | B10: งานที่จัดซื้อหรือจ้าง | C10: วงเงินงบประมาณที่ได้รับจัดสรร (บาท) | D10: แหล่งที่มาของงบประมาณ | E10: สถานะการจัดซื้อจัดจ้างฯ | F10: วิธีการจัดซื้อจัดจ้าง | G10: ราคากลาง | H10: ราคาที่ตกลงซื้อหรือจ้าง | I10: เลขประจำตัวผู้เสียภาษี | J10: รายชื่อผู้ประกอบการที่ได้รับการคัดเลือก | K10: เลขที่ของสัญญา | L10: วันที่ลงนามในสัญญา | M10: วันสิ้นสุดสัญญา
A11: 1 | B11: พลุดอกไม้ไฟ จำนวน 100 นัด | C11: 2000 | D11: ข้อบัญญัติงบประมาณรายจ่ายประจำปี 2566 | E11: เสร็จสิ้น | F11: เฉพาะเจาะจง | G11: 2000 | H11: 2000 | I11: 3800600723248 | J11: นางครองขวัญ หมัดอาดัม | K11: CNTR-00227/66 | L11: 3 พ.ค. 2566 | M11: 8 พ.ค. 2566
A12: 2 | B12: วัสดุการเกษตร จำนวน 7 รายการ | C12: 22305 | D12: ข้อบัญญัติงบประมาณรายจ่ายประจำปี 2567 | E12: เสร็จสิ้น | F12: เฉพาะเจาะจง | G12: 22305 | H12: 22305 | I12: 3930300137105 | J12: ร้านสกุณาเกษตรบางแก้ว | K12: CNTR-00228/66 | L12: 8 พ.ค. 2566 | M12: 13 พ.ค. 2566
A13: 3 | B13: ป้ายไวนิลประชาสัมพันธ์ข้อมูลความรู้เกี่ยวกับการเลือกตั้ง สส. | C13: 5184 | D13: ข้อบัญญัติงบประมาณรายจ่ายประจำปี 2568 | E13: เสร็จสิ้น | F13: เฉพาะเจาะจง | G13: 5184 | H13: 5184 | I13: 3930100729131 | J13: ร้านเบื้องดินโฆษณา | K13: CNTR-00229/66 | L13: 8 พ.ค. 2566 | M13: 9 พ.ค. 2566
A14: 4 | B14: วัสดุวิทยาศาสตร์หรือการแพทย์ สารส้มขุ่นก้อน,คลอรีน | C14: 34500 | D14: ข้อบัญญัติงบประมาณรายจ่ายประจำปี 2569 | E14: เสร็จสิ้น | F14: เฉพาะเจาะจง | G14: 34500 | H14: 34500 | I14: 0805537000272 | J14: บริษัทเซาท์เทิร์น เคมิคอลส์ จำกัด | K14: CNTR-00230/66 | L14: 9 พ.ค. 2566 | M14: 14 พ.ค. 2566
A15: 5 | B15: วัสดุสำนักงาน จำนวน 3 รายการ | C15: 4485 | D15: ข้อบัญญัติงบประมาณรายจ่ายประจำปี 2570 | E15: เสร็จสิ้น | F15: เฉพาะเจาะจง | G15: 4485 | H15: 4485 | I15: 3939900140440 | J15: ร้านพีพีเค ซัพพลาย | K15: CNTR-00231/66 | L15: 10 พ.ค. 2566 | M15: 15 พ.ค. 2566
A16: 6 | B16: วัสดุงานบ้านงานครัว 12 รายการ | C16: 15870 | D16: ข้อบัญญัติงบประมาณรายจ่ายประจำปี 2571 | E16: เสร็จสิ้น | F16: เฉพาะเจาะจง | G16: 15870 | H16: 15870 | I16: 3939900140440 | J16: ร้านพีพีเค ซัพพลาย | K16: CNTR-00233/66 | L16: 15 พ.ค. 2566 | M16: 20 พ.ค. 2566
A17: 7 | B17: ซ่อมเครื่องปรับอากาศ 420-55-0011 | C17: 15250 | D17: ข้อบัญญัติงบประมาณรายจ่ายประจำปี 2572 | E17: เสร็จสิ้น | F17: เฉพาะเจาะจง | G17: 15250 | H17: 15250 | I17: 0933551000109 | J17: หจก.รักษ์เครื่องเย็น | K17: CNTR-00234/66 | L17: 16 พ.ค. 2566 | M17: 21 พ.ค. 2566
A18: 8 | B18: วัสดุก่อสร้าง งานกิจการประปา 7 รายการ | C18: 21730 | D18: ข้อบัญญัติงบประมาณรายจ่ายประจำปี 2573 | E18: เสร็จสิ้น | F18: เฉพาะเจาะจง | G18: 21730 | H18: 21730 | I18: 0933554000045 | J18: หจก.บ้านวัสดุภัณฑ์ | K18: CNTR-00235/66 | L18: 16 พ.ค. 2566 | M18: 21 พ.ค. 2566
A19: 9 | B19: ซ่อมท่อไอเสีย รถตู้ เลขทะเบียน นข-1328 พท | C19: 300 | D19: ข้อบัญญัติงบประมาณรายจ่ายประจำปี 2574 | E19: เสร็จสิ้น | F19: เฉพาะเจาะจง | G19: 300 | H19: 300 | I19: 1930300094949 | J19: อ.เจริญยนต์ | K19: CNTR-00236/66 | L19: 19 พ.ค. 2566 | M19: 24 พ.ค. 2566
A20: 10 | B20: วัสดุคอมพิวเตอร์ จำนวน 1 รายการ | C20: 2200 | D20: ข้อบัญญัติงบประมาณรายจ่ายประจำปี 2575 | E20: เสร็จสิ้น | F20: เฉพาะเจาะจง | G20: 2200 | H20: 2200 | I20: 3930300133835 | J20: นายสุทธิรัตน์ เกิดฉิม | K20: CNTR-00237/66 | L20: 19 พ.ค. 2566 | M20: 24 พ.ค. 2566
A21: 11 | B21: วัสดุไฟฟ้าและวิทยุ จำนวน 3 รายการ | C21: 13100 | D21: ข้อบัญญัติงบประมาณรายจ่ายประจำปี 2576 | E21: เสร็จสิ้น | F21: เฉพาะเจาะจง | G21: 13100 | H21: 13100 | I21: 3930800310906 | J21: ร้านเสน่ห์การไฟฟ้า | K21: CNTR-00238/66 | L21: 22 พ.ค. 2566 | M21: 27 พ.ค. 2566
A22: 12 | B22: จ้างเหมาซ่อมแซมหลุมบ่อถนนภายในตำบล ม.2,8,9,10 และ 3,11 จำนวน 12 สาย | C22: 211300 | D22: ข้อบัญญัติงบประมาณรายจ่ายประจำปี 2577 | E22: เสร็จสิ้น | F22: เฉพาะเจาะจง | G22: 211300 | H22: 211300 | I22: 3900900281541 | J22: นวลทอง 2010 | K22: CNTR-00239/66 | L22: 22 พ.ค. 2566 | M22: 21 มิ.ย. 2566
... A34: 24 | B34: วัสดุก่อสร้าง จำนวน 4 รายการ | C34: 3070 | D34: ข้อบัญญัติงบประมาณรายจ่ายประจำปี 2589 | E34: เสร็จสิ้น | F34: เฉพาะเจาะจง | G34: 3070 | H34: 3070 | I34: 3930300164218 | J34: นาเดียก่อสร้าง | K34: CNTR-00251/66 | L34: 31 พ.ค. 2566 | M34: 5 มิ.ย. 2566

Sheet มิ.ย. 66
A7: สรุปผลการดำเนินการจัดซื้อจัดจ้างในรอบเดือนมิถุนายน พ.ศ. 2566
A8: องค์การบริหารส่วนตำบลโคกสัก
A10: ลำดับที่ | B10: งานที่จัดซื้อหรือจ้าง | C10: วงเงินงบประมาณที่ได้รับจัดสรร (บาท) | D10: แหล่งที่มาของงบประมาณ | E10: สถานะการจัดซื้อจัดจ้างฯ | F10: วิธีการจัดซื้อจัดจ้าง | G10: ราคากลาง | H10: ราคาที่ตกลงซื้อหรือจ้าง | I10: เลขประจำตัวผู้เสียภาษี | J10: รายชื่อผู้ประกอบการที่ได้รับการคัดเลือก | K10: เลขที่ของสัญญา | L10: วันที่ลงนามในสัญญา | M10: วันสิ้นสุดสัญญา
A11: 1 | B11: ครุภัณฑ์สำนักงาน เก้าอี้แบบล้อเลื่อนขาเหล็ก | C11: 5500 | D11: ข้อบัญญัติงบประมาณรายจ่ายประจำปี 2566 | E11: เสร็จสิ้น | F11: เฉพาะเจาะจง | G11: 5500 | H11: 5500 | I11: 0933557000151 | J11: หจก.โอมเฟอร์นิเจอร์แม่ขรี | K11: CNTR-00252/66 | L11: 1 มิ.ย. 2566 | M11: 16 มิ.ย. 2566
A12: 2 | B12: ป้ายไวนิล พระบรมฉายาลักษณ์ สมเด็จพระนางเจ้าพระบรมราชินี ขนาด 1.42 เมตร x 2.91 เมตร | C12: 826 | D12: ข้อบัญญัติงบประมาณรายจ่ายประจำปี 2566 | E12: เสร็จสิ้น | F12: เฉพาะเจาะจง | G12: 826 | H12: 826 | I12: 3930100729131 | J12: ร้านเบื้องดินโฆษณา | K12: CNTR-00253/66 | L12: 1 มิ.ย. 2566 | M12: 2 มิ.ย. 2566
A13: 3 | B13: ครุภัณฑ์การเกษตร เครื่องพ่นหมอกควัน | C13: 59000 | D13: ข้อบัญญัติงบประมาณรายจ่ายประจำปี 2566 | E13: เสร็จสิ้น | F13: เฉพาะเจาะจง | G13: 59000 | H13: 59000 | I13: 0905545001966 | J13: บริษัท ดาราภัณฑ์ ภาคใต้ จำกัด | K13: CNTR-00254/66 | L13: 6 มิ.ย. 2566 | M13: 21 มิ.ย. 2566
A14: 4 | B14: วัสดุก่อสร้าง พลั่ว จำนวน 2 อัน | C14: 360 | D14: ข้อบัญญัติงบประมาณรายจ่ายประจำปี 2566 | E14: เสร็จสิ้น | F14: เฉพาะเจาะจง | G14: 360 | H14: 360 | I14: 3930300137105 | J14: ร้านสกุณาเกษตรบางแก้ว | K14: CNTR-00256/66 | L14: 6 มิ.ย. 2566 | M14: 11 มิ.ย. 2566
A15: 5 | B15: วัสดุสำนักงาน ผ้าผูกสีม่วง จำนวน 113 หลา | C15: 2034 | D15: ข้อบัญญัติงบประมาณรายจ่ายประจำปี 2566 | E15: เสร็จสิ้น | F15: เฉพาะเจาะจง | G15: 2034 | H15: 2034 | I15: 3939900154904 | J15: กฤษณาสโตร์ | K15: CNTR-00257/66 | L15: 6 มิ.ย. 2566 | M15: 11 มิ.ย. 2566
A16: 6 | B16: วัสดุก่อสร้าง จำนวน 4 รายการ | C16: 4134 | D16: ข้อบัญญัติงบประมาณรายจ่ายประจำปี 2566 | E16: เสร็จสิ้น | F16: เฉพาะเจาะจง | G16: 4134 | H16: 4134 | I16: 0933554000045 | J16: หจก.บ้านวัสดุภัณฑ์ | K16: CNTR-00258/66 | L16: 6 มิ.ย. 2566 | M16: 11 มิ.ย. 2566
A17: 7 | B17: จ้างเหมาโครงการปรับภูมิทัศน์ ถมดิน บริเวณอาคารอเนกประสงค์ | C17: 74800 | D17: ข้อบัญญัติงบประมาณรายจ่ายประจำปี 2566 | E17: เสร็จสิ้น | F17: เฉพาะเจาะจง | G17: 74800 | H17: 74800 | I17: 3930300026303 | J17: จิรวัฒน์ ค้าไม้ | K17: CNTR-00259/66 | L17: 6 มิ.ย. 2566 | M17: 21 มิ.ย. 2566
A18: 8 | B18: วัสดุเครื่องแต่งกาย | C18: 1819 | D18: ข้อบัญญัติงบประมาณรายจ่ายประจำปี 2566 | E18: เสร็จสิ้น | F18: เฉพาะเจาะจง | G18: 1819 | H18: 1819 | I18: 0905545001966 | J18: บริษัท ดาราภัณฑ์ ภาคใต้ จำกัด | K18: CNTR-00260/66 | L18: 8 มิ.ย. 2566 | M18: 13 มิ.ย. 2566
A19: 9 | B19: ซ่อมรถจักรยานยนต์ 1 กฎ 3891 พท | C19: 720 | D19: ข้อบัญญัติงบประมาณรายจ่ายประจำปี 2566 | E19: เสร็จสิ้น | F19: เฉพาะเจาะจง | G19: 720 | H19: 720 | I19: 3930300026303 | J19: นายวีระพันธ์ แก้วมาคูณ | K19: CNTR-00261/66 | L19: 12 มิ.ย. 2566 | M19: 17 มิ.ย. 2566
A20: 10 | B20: ซ่อมเปลี่ยนอะไหล่เครื่องตัดหญ้า | C20: 360 | D20: ข้อบัญญัติงบประมาณรายจ่ายประจำปี 2566 | E20: เสร็จสิ้น | F20: เฉพาะเจาะจง | G20: 360 | H20: 360 | I20: 5930300018668 | J20: นายปรีชา เสียงแจ้ว | K20: CNTR-00262/66 | L20: 12 มิ.ย. 2566 | M20: 17 มิ.ย. 2566
A21: 11 | B21: วัสดุสำนักงาน จำนวน 2 รายการ | C21: 2000 | D21: ข้อบัญญัติงบประมาณรายจ่ายประจำปี 2566 | E21: เสร็จสิ้น | F21: เฉพาะเจาะจง | G21: 2000 | H21: 2000 | I21: 3939900140440 | J21: ร้านพีพีเค ซัพพลาย | K21: CNTR-00263/66 | L21: 13 มิ.ย. 2566 | M21: 14 มิ.ย. 2566
A22: 12 | B22: ป้ายไวนิล ตราสมเด็จพระอริยวงศาคตญานฯ | C22: 459 | D22: ข้อบัญญัติงบประมาณรายจ่ายประจำปี 2566 | E22: เสร็จสิ้น | F22: เฉพาะเจาะจง | G22: 459 | H22: 459 | I22: 3930100729131 | J22: ร้านเบื้องดินโฆษณา | K22: CNTR-00265/66 | L22: 13 มิ.ย. 2566 | M22: 14 มิ.ย. 2566
... A35: 25 | B35: จ้างเหมาบริการด้านการจัดเก็บรายได้ | C35: 7000 | D35: ข้อบัญญัติงบประมาณรายจ่ายประจำปี 2566 | E35: เสร็จสิ้น | F35: เฉพาะเจาะจง | G35: 7000 | H35: 7000 | I35: 1939900299906 | J35: นายธีระพงศ์ หนูมาก | K35: CNTR-00279/66 | L35: 28 มิ.ย. 2566 | M35: 31 ก.ค. 2566

Sheet ก.ค. 66
A7: สรุปผลการดำเนินการจัดซื้อจัดจ้างในรอบเดือนกรกฎาคม พ.ศ. 2566
A8: องค์การบริหารส่วนตำบลโคกสัก
A10: ลำดับที่ | B10: งานที่จัดซื้อหรือจ้าง | C10: วงเงินงบประมาณที่ได้รับจัดสรร (บาท) | D10: แหล่งที่มาของงบประมาณ | E10: สถานะการจัดซื้อจัดจ้างฯ | F10: วิธีการจัดซื้อจัดจ้าง | G10: ราคากลาง | H10: ราคาที่ตกลงซื้อหรือจ้าง | I10: เลขประจำตัวผู้เสียภาษี | J10: รายชื่อผู้ประกอบการที่ได้รับการคัดเลือก | K10: เลขที่ของสัญญา | L10: วันที่ลงนามในสัญญา | M10: วันสิ้นสุดสัญญา
A11: 1 | B11: วัสดุก่อสร้าง มาตรน้ำ จำนวน 30 ตัว | C11: 43500 | D11: ข้อบัญญัติงบประมาณรายจ่ายประจำปี 2566 | E11: เสร็จสิ้น | F11: เฉพาะเจาะจง | G11: 43500 | H11: 43500 | I11: 0933554000045 | J11: หจก.บ้านวัสดุภัณฑ์ | K11: CNTR-00280/66 | L11: 5 ก.ค. 2566 | M11: 10 ก.ค. 2566
A12: 2 | B12: ครุภัณฑ์การเกษตร เครื่องสูบน้ำแบบหอยโข่ง 2 แรงม้า (ม.10) | C12: 11000 | D12: ข้อบัญญัติงบประมาณรายจ่ายประจำปี 2566 | E12: เสร็จสิ้น | F12: เฉพาะเจาะจง | G12: 11000 | H12: 11000 | I12: 3930500825358 | J12: ร้านพัทลุงการประปา | K12: CNTR-00281/66 | L12: 5 ก.ค. 2566 | M12: 10 ก.ค. 2566
A13: 3 | B13: วัสดุก่อสร้าง จำนวน 2 รายการ (งานกิจการประปา) | C13: 11500 | D13: ข้อบัญญัติงบประมาณรายจ่ายประจำปี 2566 | E13: เสร็จสิ้น | F13: เฉพาะเจาะจง | G13: 11500 | H13: 11500 | I13: 0933559000647 | J13: หจก.เซาเทิร์น ไฮโดร เทคโนโลยี | K13: CNTR-00282/66 | L13: 5 ก.ค. 2566 | M13: 10 ก.ค. 2566
A14: 4 | B14: วัสดุไฟฟ้าและวิทยุ จำนวน 9 รายการ | C14: 19180 | D14: ข้อบัญญัติงบประมาณรายจ่ายประจำปี 2566 | E14: เสร็จสิ้น | F14: เฉพาะเจาะจง | G14: 19180 | H14: 19180 | I14: 3930800310906 | J14: ร้านเสน่ห์การไฟฟ้า | K14: CNTR-00283/66 | L14: 6 ก.ค. 2566 | M14: 11 ก.ค. 2566
A15: 5 | B15: วัสดุไฟฟ้าและวิทยุ จำนวน 1 รายการ | C15: 750 | D15: ข้อบัญญัติงบประมาณรายจ่ายประจำปี 2566 | E15: เสร็จสิ้น | F15: เฉพาะเจาะจง | G15: 750 | H15: 750 | I15: 3930800310906 | J15: ร้านเสน่ห์การไฟฟ้า | K15: CNTR-00284/66 | L15: 6 ก.ค. 2566 | M15: 11 ก.ค. 2566
A16: 6 | B16: ป้ายไวนิลพระบาทสมเด็จพระเจ้าอยู่หัว ร.10 | C16: 826 | D16: ข้อบัญญัติงบประมาณรายจ่ายประจำปี 2566 | E16: เสร็จสิ้น | F16: เฉพาะเจาะจง | G16: 826 | H16: 826 | I16: 3930100729131 | J16: ร้านเบื้องดินโฆษณา | K16: CNTR-00285/66 | L16: 6 ก.ค. 2566 | M16: 11 ก.ค. 2566
A17: 7 | B17: วัสดุก่อสร้าง จำนวน 4 รายการ | C17: 1116 | D17: ข้อบัญญัติงบประมาณรายจ่ายประจำปี 2566 | E17: เสร็จสิ้น | F17: เฉพาะเจาะจง | G17: 1116 | H17: 1116 | I17: 0933554000045 | J17: หจก. บ้านวัสดุภัณฑ์ | K17: CNTR-00286/66 | L17: 6 ก.ค. 2566 | M17: 11 ก.ค. 2566
A18: 8 | B18: วัสดุคอมพิวเตอร์ จำนวน 2 รายการ | C18: 1170 | D18: ข้อบัญญัติงบประมาณรายจ่ายประจำปี 2566 | E18: เสร็จสิ้น | F18: เฉพาะเจาะจง | G18: 1170 | H18: 1170 | I18: 3930300133835 | J18: นายสุทธิรัตน์ เกิดฉิม | K18: CNTR-00287/66 | L18: 6 ก.ค. 2566 | M18: 11 ก.ค. 2566
A19: 9 | B19: วัสดุก่อสร้าง จำนวน 4 รายการ (งานกิจการประปา) | C19: 5510 | D19: ข้อบัญญัติงบประมาณรายจ่ายประจำปี 2566 | E19: เสร็จสิ้น | F19: เฉพาะเจาะจง | G19: 5510 | H19: 5510 | I19: 0933554000045 | J19: หจก.บ้านวัสดุภัณฑ์ | K19: CNTR-00288/66 | L19: 6 ก.ค. 2566 | M19: 11 ก.ค. 2566
A20: 10 | B20: โครงการก่อสร้างถนน คสล. สายสะพานแขวน-มัสยิด (ช่างที่ 1) ม.4 | C20: 163000 | D20: เงินอุดหนุนระบุวัตถุประสงค์/เฉพาะกิจ | E20: เสร็จสิ้น | F20: เฉพาะเจาะจง | G20: 163000 | H20: 163000 | I20: 0903539003951 | J20: หจก.เอส.พี.อี.ซี.ก่อสร้าง | K20: CNTR-00289/66 | L20: 7 ก.ค. 2566 | M20: 5 ต.ค. 2566
A21: 11 | B21: วัสดุคอมพิวเตอร์ เมาส์ USB 2.0 | C21: 290 | D21: ข้อบัญญัติงบประมาณรายจ่ายประจำปี 2566 | E21: เสร็จสิ้น | F21: เฉพาะเจาะจง | G21: 290 | H21: 290 | I21: 3930300133835 | J21: นายสุทธิรัตน์ เกิดฉิม | K21: CNTR-00290/66 | L21: 11 ก.ค. 2566 | M21: 16 ก.ค. 2566
A22: 12 | B22: วัสดุสำนักงาน (ใบเสร็จค่าน้ำประปา) | C22: 9000 | D22: ข้อบัญญัติงบประมาณรายจ่ายประจำปี 2566 | E22: เสร็จสิ้น | F22: เฉพาะเจาะจง | G22: 9000 | H22: 9000 | I22: 5100900105861 | J22: จุรี หนูเอียด | K22: CNTR-00291/66 | L22: 11 ก.ค. 2566 | M22: 16 ก.ค. 2566
... A31: 21 | B31: ผ้าผูกสีเหลือง จำนวน 122 หลา | C31: 2196 | D31: ข้อบัญญัติงบประมาณรายจ่ายประจำปี 2566 | E31: เสร็จสิ้น | F31: เฉพาะเจาะจง | G31: 2196 | H31: 2196 | I31: 3939900154904 | J31: กฤษณาสโตร์ | K31: CNTR-00300/66 | L31: 27 ก.ค. 2566 | M31: 1 ส.ค. 2566

Sheet ส.ค. 66
A7: สรุปผลการดำเนินการจัดซื้อจัดจ้างในรอบเดือนสิงหาคม พ.ศ. 2566
A8: องค์การบริหารส่วนตำบลโคกสัก
A10: ลำดับที่ | B10: งานที่จัดซื้อหรือจ้าง | C10: วงเงินงบประมาณที่ได้รับจัดสรร (บาท) | D10: แหล่งที่มาของงบประมาณ | E10: สถานะการจัดซื้อจัดจ้างฯ | F10: วิธีการจัดซื้อจัดจ้าง | G10: ราคากลาง | H10: ราคาที่ตกลงซื้อหรือจ้าง | I10: เลขประจำตัวผู้เสียภาษี | J10: รายชื่อผู้ประกอบการที่ได้รับการคัดเลือก | K10: เลขที่ของสัญญา | L10: วันที่ลงนามในสัญญา | M10: วันสิ้นสุดสัญญา
A11: 1 | B11: วัสดุวิทยาศาสตร์หรือการแพทย์ สารส้มขุ่นก้อน,คลอรีน | C11: 34500 | D11: ข้อบัญญัติงบประมาณรายจ่ายประจำปี 2566 | E11: เสร็จสิ้น | F11: เฉพาะเจาะจง | G11: 34500 | H11: 34500 | I11: 0805537000272 | J11: บริษัทเซาท์เทิร์น เคมิคอลส์ จำกัด | K11: CNTR-00301/66 | L11: 3 ส.ค. 2566 | M11: 8 ส.ค. 2566
A12: 2 | B12: โครงการซ่อมสร้างถนน คสล.สายเพชรเกษม-ปอเนาะ ม.6 บ้านลำธาร์ | C12: 3370000 | D12: เงินอุดหนุนระบุวัตถุประสงค์/เฉพาะกิจ | E12: เสร็จสิ้น | F12: e-bidding | G12: 3370000 | H12: 3370000 | I12: 0935563000500 | J12: บริษัทวังทรายทอง แอคชั่นกรุ๊ป | K12: CNTR-00302/66 | L12: 4 ส.ค. 2566 | M12: 2 ธ.ค. 2566
A13: 3 | B13: จ้างทำป้าย จำนวน 2 ป้าย ไวนิล+สติกเกอร์ | C13: 8500 | D13: ข้อบัญญัติงบประมาณรายจ่ายประจำปี 2566 | E13: เสร็จสิ้น | F13: เฉพาะเจาะจง | G13: 8500 | H13: 8500 | I13: 1930800013468 | J13: ร้าน ก.ไก่ ไวนิล | K13: CNTR-00303/66 | L13: 7 ส.ค. 2566 | M13: 7 ส.ค. 2566
A14: 4 | B14: วัสดุคอมพิวเตอร์ ผ้าหมึก EPSON 590 จำนวน 10 กล่อง | C14: 2600 | D14: ข้อบัญญัติงบประมาณรายจ่ายประจำปี 2566 | E14: เสร็จสิ้น | F14: เฉพาะเจาะจง | G14: 2600 | H14: 2600 | I14: 3930300133835 | J14: นายสุทธิรัตน์ เกิดฉิม | K14: CNTR-00304/66 | L14: 7 ส.ค. 2566 | M14: 12 ส.ค. 2566
A15: 5 | B15: จ้างเหมาจดมาตรน้ำประปา (งานจัดเก็บรายได้กองคลัง) | C15: 5592 | D15: ข้อบัญญัติงบประมาณรายจ่ายประจำปี 2566 | E15: เสร็จสิ้น | F15: เฉพาะเจาะจง | G15: 5592 | H15: 5592 | I15: 1930900014008 | J15: นายวุฒิพงค์ สิทธิศักดิ์ | K15: CNTR-00305/66 | L15: 7 ส.ค. 2566 | M15: 31 ส.ค. 2566
A16: 6 | B16: ธงตราสัญลักษณ์ สก. จำนวน 30 ผืน (สป.) | C16: 1650 | D16: ข้อบัญญัติงบประมาณรายจ่ายประจำปี 2566 | E16: เสร็จสิ้น | F16: เฉพาะเจาะจง | G16: 1650 | H16: 1650 | I16: 3939900140440 | J16: ร้านพีพีเค ซัพพลาย | K16: CNTR-00306/66 | L16: 9 ส.ค. 2566 | M16: 14 ส.ค. 2566
A17: 7 | B17: วัสดุก่อสร้าง จำนวน 2 รายการ สป | C17: 1146 | D17: ข้อบัญญัติงบประมาณรายจ่ายประจำปี 2566 | E17: เสร็จสิ้น | F17: เฉพาะเจาะจง | G17: 1146 | H17: 1146 | I17: 0933554000045 | J17: หจก.บ้านวัสดุภัณฑ์ | K17: CNTR-00307/66 | L17: 9 ส.ค. 2566 | M17: 14 ส.ค. 2566
A18: 8 | B18: วัสดุก่อสร้าง เหล็กกล่อง กัลวาไนซ์ จำนวน 3 เส้น สป | C18: 624 | D18: ข้อบัญญัติงบประมาณรายจ่ายประจำปี 2566 | E18: เสร็จสิ้น | F18: เฉพาะเจาะจง | G18: 624 | H18: 624 | I18: 0935562000581 | J18: บริษัท บ้านวัสดุภัณฑ์สตีล จำกัด | K18: CNTR-00309/66 | L18: 9 ส.ค. 2566 | M18: 14 ส.ค. 2566
A19: 9 | B19: วัสดุสำนักงาน (ผ้าผูกสีขาว+สีฟ้า (สำนักปลัด) | C19: 6264 | D19: ข้อบัญญัติงบประมาณรายจ่ายประจำปี 2566 | E19: เสร็จสิ้น | F19: เฉพาะเจาะจง | G19: 6264 | H19: 6264 | I19: 3939900154904 | J19: ร้านกฤษณาสโตร์ | K19: CNTR-00310/66 | L19: 9 ส.ค. 2566 | M19: 14 ส.ค. 2566
A20: 10 | B20: วัสดุงานบ้านงานครัว จำนวน 5 รายการ (สำนักปลัด) | C20: 12530 | D20: ข้อบัญญัติงบประมาณรายจ่ายประจำปี 2566 | E20: เสร็จสิ้น | F20: เฉพาะเจาะจง | G20: 12530 | H20: 12530 | I20: 3939900140440 | J20: ร้านพีพีเค ซัพพลาย | K20: CNTR-00311/66 | L20: 9 ส.ค. 2566 | M20: 14 ส.ค. 2566
A21: 11 | B21: ถ่ายเอกสารร่างข้อบัญญัติ ประจำปี 2567 | C21: 3818 | D21: ข้อบัญญัติงบประมาณรายจ่ายประจำปี 2566 | E21: เสร็จสิ้น | F21: เฉพาะเจาะจง | G21: 3818 | H21: 3818 | I21: 3930300035761 | J21: ร้านพี ที ช็อป | K21: CNTR-00312/66 | L21: 9 ส.ค. 2566 | M21: 10 ส.ค. 2566
A22: 12 | B22: วัสดุก่อสร้างงานกิจการประปาจำนวน ๒๑ รายการ กองช่าง | C22: 23216 | D22: ข้อบัญญัติงบประมาณรายจ่ายประจำปี 2566 | E22: เสร็จสิ้น | F22: เฉพาะเจาะจง | G22: 23216 | H22: 23216 | I22: 0933554000045 | J22: หจก.บ้านวัสดุภัณฑ์ | K22: CNTR-00313/66 | L22: 10 ส.ค. 2566 | M22: 15 ส.ค. 2566
... A46: 36 | B46: จ้างเหมาบริการด้านงานสาธารณูปโภค | C46: 7000 | D46: ข้อบัญญัติงบประมาณรายจ่ายประจำปี 2566 | E46: เสร็จสิ้น | F46: เฉพาะเจาะจง | G46: 7000 | H46: 7000 | I46: 1930900026103 | J46: นายโชติพงษ์ สงดวง | K46: CNTR-00338/66 | L46: 31 ส.ค. 2566 | M46: 30 ก.ย. 2566

Sheet ก.ย. 66
A7: สรุปผลการดำเนินการจัดซื้อจัดจ้างในรอบเดือนกันยายนพ.ศ. 2566
A8: องค์การบริหารส่วนตำบลโคกสัก
A10: ลำดับที่ | B10: งานที่จัดซื้อหรือจ้าง | C10: วงเงินงบประมาณที่ได้รับจัดสรร (บาท) | D10: แหล่งที่มาของงบประมาณ | E10: สถานะการจัดซื้อจัดจ้างฯ | F10: วิธีการจัดซื้อจัดจ้าง | G10: ราคากลาง | H10: ราคาที่ตกลงซื้อหรือจ้าง | I10: เลขประจำตัวผู้เสียภาษี | J10: รายชื่อผู้ประกอบการที่ได้รับการคัดเลือก | K10: เลขที่ของสัญญา | L10: วันที่ลงนามในสัญญา | M10: วันสิ้นสุดสัญญา
A11: 1 | B11: จ้างทำตรายาง จำนวน 4 รายการ | C11: 720 | D11: ข้อบัญญัติงบประมาณรายจ่ายประจำปี 2566 | E11: เสร็จสิ้น | F11: เฉพาะเจาะจง | G11: 720 | H11: 720 | I11: 3930500837038 | J11: ร้านเพื่อนซิลค์สกรีนและตรายาง | K11: CNTR-00339/66 | L11: 4 ก.ย. 2566 | M11: 9 ก.ย. 2566
A12: 2 | B12: วัสดุก่อสร้าง กระดานไม้อัด เคลือบขาว | C12: 944 | D12: ข้อบัญญัติงบประมาณรายจ่ายประจำปี 2566 | E12: เสร็จสิ้น | F12: เฉพาะเจาะจง | G12: 944 | H12: 944 | I12: 0933554000045 | J12: หจก. บ้านวัสดุภัณฑ์ | K12: CNTR-00340/66 | L12: 4 ก.ย. 2566 | M12: 9 ก.ย. 2566
A13: 3 | B13: ป้ายไวนิลโครงการฝึกอบรมคุณธรรม จริยธรรม | C13: 518 | D13: ข้อบัญญัติงบประมาณรายจ่ายประจำปี 2566 | E13: เสร็จสิ้น | F13: เฉพาะเจาะจง | G13: 518 | H13: 518 | I13: 1930800013468 | J13: ร้าน ก.ไก่ ไวนิล | K13: CNTR-00341/66 | L13: 4 ก.ย. 2566 | M13: 9 ก.ย. 2566
A14: 4 | B14: วัสดุไฟฟ้าและวิทยุ ถ่านไฟ ขนาด 1.5 V AA | C14: 1200 | D14: ข้อบัญญัติงบประมาณรายจ่ายประจำปี 2566 | E14: เสร็จสิ้น | F14: เฉพาะเจาะจง | G14: 1200 | H14: 1200 | I14: 3939900140440 | J14: ร้านพีพีเค ซัพพลาย | K14: CNTR-00342/66 | L14: 4 ก.ย. 2566 | M14: 9 ก.ย. 2566
A15: 5 | B15: วัสดุไฟฟ้าและวิทยุ จำนวน 2 รายการ | C15: 250 | D15: ข้อบัญญัติงบประมาณรายจ่ายประจำปี 2566 | E15: เสร็จสิ้น | F15: เฉพาะเจาะจง | G15: 250 | H15: 250 | I15: 3930800310906 | J15: ร้านเสน่ห์ การไฟฟ้า | K15: CNTR-00343/66 | L15: 4 ก.ย. 2566 | M15: 9 ก.ย. 2566
A16: 6 | B16: ครุภัณฑ์ กีฬา | C16: 499500 | D16: ข้อบัญญัติงบประมาณรายจ่ายประจำปี 2566 | E16: เสร็จสิ้น | F16: เฉพาะเจาะจง | G16: 499500 | H16: 499500 | I16: 0805538000926 | J16: บริษัท สยามเทค กรุ๊ป 999 จำกัด | K16: CNTR-00344/66 | L16: 5 ก.ย. 2566 | M16: 12 ต.ค. 2566
A17: 7 | B17: วัสดุอุปกรณ์ในการอบรมโครงการคุณธรรมฯ | C17: 408 | D17: เงินสะสม | E17: เสร็จสิ้น | F17: เฉพาะเจาะจง | G17: 408 | H17: 408 | I17: 3939900140440 | J17: ร้านพีพีเค ซัพพลาย | K17: CNTR-00346/66 | L17: 5 ก.ย. 2566 | M17: 10 ก.ย. 2566
A18: 8 | B18: โครงการปรับปรุงระบบท่อจ่ายน้ำประปาหมู่บ้าน หมู่ที่ 7-10 | C18: 480000 | D18: เงินสะสม | E18: เสร็จสิ้น | F18: เฉพาะเจาะจง | G18: 480000 | H18: 480000 | I18: 0933539000544 | J18: หจก.พัทลุงนวกรรม | K18: CNTR-00347/66 | L18: 5 ก.ย. 2566 | M18: 4 พ.ย. 2566
A19: 9 | B19: โครงการปรับปรุงเปลี่ยนท่อจ่ายน้ำประปา หมู่ที่ ๙ | C19: 416000 | D19: เงินสะสม | E19: เสร็จสิ้น | F19: เฉพาะเจาะจง | G19: 416000 | H19: 416000 | I19: 0933539000544 | J19: หจก.พัทลุงนวกรรม | K19: CNTR-00348/66 | L19: 5 ก.ย. 2566 | M19: 4 พ.ย. 2566
A20: 10 | B20: วัสดุไฟฟ้าและวิทยุ จำนวน 11 รายการ กองช่าง | C20: 19800 | D20: ข้อบัญญัติงบประมาณรายจ่ายประจำปี 2566 | E20: เสร็จสิ้น | F20: เฉพาะเจาะจง | G20: 19800 | H20: 19800 | I20: 3930800310906 | J20: ร้านเสน่ห์การไฟฟ้า | K20: CNTR-00349/66 | L20: 6 ก.ย. 2566 | M20: 11 ก.ย. 2566
A21: 11 | B21: วัสดุสำนักงาน จำนวน 22 รายการ สำนักปลัด | C21: 19328 | D21: ข้อบัญญัติงบประมาณรายจ่ายประจำปี 2566 | E21: เสร็จสิ้น | F21: เฉพาะเจาะจง | G21: 19328 | H21: 19328 | I21: 3939900140440 | J21: ร้านพีพีเค ซัพพลาย | K21: CNTR-00350/66 | L21: 6 ก.ย. 2566 | M21: 11 ก.ย. 2566
A22: 12 | B22: วัสดุก่อสร้าง จำนวน 4 รายการ กองช่่าง | C22: 2200 | D22: ข้อบัญญัติงบประมาณรายจ่ายประจำปี 2566 | E22: เสร็จสิ้น | F22: เฉพาะเจาะจง | G22: 2200 | H22: 2200 | I22: 3930300137105 | J22: ร้านสกุณาเกษตรบางแก้ว | K22: CNTR-00351/66 | L22: 7 ก.ย. 2566 | M22: 12 ก.ย. 2566
... A48: 38 | B48: อาหารเสริม (นม) ชนิดถุง ภาคเรียนที่ 1 ปีการศึกษา 2566 | C48: 117.13 | D48: ข้อบัญญัติงบประมาณรายจ่ายประจำปี 2566 | E48: เสร็จสิ้น | F48: เฉพาะเจาะจง | G48: 117.13 | H48: 117.13 | I48: 0994000593155 | J48: สหกรณ์โคนมพัทลุง | K48: CNTR-00379/66 | L48: 15 ก.ย. 2566 | M48: 10 ต.ค. 2566
